BEGIN:VCALENDAR
VERSION:2.0
PRODID:-//ChamberMaster//Event Calendar 2.0//EN
METHOD:PUBLISH
X-PUBLISHED-TTL:P3D
REFRESH-INTERVAL:P3D
CALSCALE:GREGORIAN
BEGIN:VEVENT
DTSTART:20210828T120000Z
DTEND:20210828T130000Z
X-MICROSOFT-CDO-ALLDAYEVENT:FALSE
SUMMARY:6 Summertime Concerts Series – VI: Hifilutin Flute Quartet
DESCRIPTION:The Hifilutin Flute Quartet will give the final concert in the 6 Summertime Concerts Series at Triskel\, showcasing the flute\, alto flute\, bass flute\, contrabass flute and piccolo. They present a selection from their very wide-ranging and varied repertoire which is guaranteed to delight. From medieval to modern music\, from classical works to the unexpected\, from arrangements of orchestral and opera favourites to musicals and original compositions\, the ensemble demonstrates the full versatility of the flute family.\n\n \n\nMusicians\n\nThe Hifilutin Flute Quartet\n\nEil s O'Sullivan\n\nMaria Mulcahy\n\nAoife O'Donovan\n\nKatrina Emtage\n\n \n\nHifilutin was first formed in 2006 with Eil s O'Sullivan\, Maria Mulcahy\, Katrina Emtage and Kate Chisholm. In 2006-07 they gave concerts in Cork and in Muckross House\, Killarney\, before disbanding as personal circumstances changed. In 2018\, they regrouped with Aoife O'Donovan taking the place of Kate Chisholm. Since then\, they have performed for Cork Vision Centre\, North Main Street\, at the Crawford Art Gallery and at Cork Airport's Christmas Gala Concert. They were due to perform with the Birmingham Flute Choir at the\n\nMTU Cork School of Music in Spring 2020\, when COVID-19 restrictions resulted in the cancellation of the concert.
X-ALT-DESC;FMTTYPE=text/html:<p><span style="font-size:14px\;"><span style="font-family:arial\;"><strong>The Hifilutin Flute Quartet</strong> will give the final concert in the 6 Summertime Concerts Series at Triskel\, showcasing the flute\, alto flute\, bass flute\, contrabass flute and piccolo. They present a selection from their very wide-ranging and varied repertoire which is guaranteed to delight. From medieval to modern music\, from classical works to the unexpected\, from arrangements of orchestral and opera favourites to musicals and original compositions\, the ensemble demonstrates the full versatility of the flute family.<br />\n&nbsp\;<br />\n<strong>Musicians</strong><br />\nThe Hifilutin Flute Quartet<br />\nEil&iacute\;s O&rsquo\;Sullivan<br />\nMaria Mulcahy<br />\nAoife O&rsquo\;Donovan<br />\nKatrina Emtage<br />\n&nbsp\;<br />\nHifilutin was first formed in 2006 with Eil&iacute\;s O&rsquo\;Sullivan\, Maria Mulcahy\, Katrina Emtage and Kate Chisholm. In 2006-07 they gave concerts in Cork and in Muckross House\, Killarney\, before disbanding as personal circumstances changed. In 2018\, they regrouped with Aoife O&rsquo\;Donovan taking the place of Kate Chisholm. Since then\, they have performed for Cork Vision Centre\, North Main Street\, at the Crawford Art Gallery and at Cork Airport&rsquo\;s Christmas Gala Concert. They were due to perform with the Birmingham Flute Choir at the<br />\nMTU Cork School of Music in Spring 2020\, when COVID-19 restrictions resulted in the cancellation of the concert.</span></span></p>\n
LOCATION:Triskel Christchurch Triskel Arts Centre Tobin Street Cork
UID:e.2489.23645
SEQUENCE:3
DTSTAMP:20260422T154401Z
URL:https://chamber.corkchamber.ie/events/details/6-summertime-concerts-series-vi-hifilutin-flute-quartet-23645
END:VEVENT

END:VCALENDAR
