BEGIN:VCALENDAR
VERSION:2.0
PRODID:-//ChamberMaster//Event Calendar 2.0//EN
METHOD:PUBLISH
X-PUBLISHED-TTL:P3D
REFRESH-INTERVAL:P3D
CALSCALE:GREGORIAN
BEGIN:VEVENT
DTSTART:20221211T130000Z
DTEND:20221211T144000Z
X-MICROSOFT-CDO-ALLDAYEVENT:FALSE
SUMMARY:An Cailín Ciúin (The Quiet Girl) (12A)
DESCRIPTION:95 mins   Ireland 2021   Subtitles   Dir: Colm Bair ad\n\nStarring: Catherine Clinch\, Carrie Crowley and Andrew Bennett\n\n \n\nTHE QUIET GIRL (AN CAIL N CI IN)\, the heartbreaking debut feature from director Colm Bair ad\, is set in rural Ireland during the early eighties. A quiet\, neglected girl is sent away from her overcrowded\, dysfunctional family to live with foster parents for the summer. She blossoms in their care\, but in this house where there are meant to be no secrets\, she discovers a painful truth.\n\n \n\n "One of the most exquisitely realised films of the year an accomplished work" The Observer
X-ALT-DESC;FMTTYPE=text/html:<p><span style="font-size:14px\;"><span style="font-family:arial\;">95 mins &ndash\; Ireland 2021 &ndash\; Subtitles &ndash\; Dir: Colm Bair&eacute\;ad<br />\nStarring: Catherine Clinch\, Carrie Crowley and Andrew Bennett<br />\n&nbsp\;<br />\nTHE QUIET GIRL (AN CAIL&Iacute\;N CI&Uacute\;IN)\, the heartbreaking debut feature from director Colm Bair&eacute\;ad\, is set in rural Ireland during the early eighties. A quiet\, neglected girl is sent away from her overcrowded\, dysfunctional family to live with foster parents for the summer. She blossoms in their care\, but in this house where there are meant to be no secrets\, she discovers a painful truth.<br />\n&nbsp\;<br />\n<strong>&nbsp\;&ldquo\;One of the most exquisitely realised films of the year&hellip\;an accomplished work&rdquo\; </strong>The Observer</span></span></p>\n
LOCATION:
UID:e.2489.31309
SEQUENCE:3
DTSTAMP:20260423T172301Z
URL:https://chamber.corkchamber.ie/events/details/an-cail&#237;n-ci&#250;in-the-quiet-girl-12a-31309
END:VEVENT

END:VCALENDAR
