BEGIN:VCALENDAR
VERSION:2.0
PRODID:-//ChamberMaster//Event Calendar 2.0//EN
METHOD:PUBLISH
X-PUBLISHED-TTL:P3D
REFRESH-INTERVAL:P3D
CALSCALE:GREGORIAN
BEGIN:VEVENT
DTSTART:20260430T170000Z
DTEND:20260430T200000Z
X-MICROSOFT-CDO-ALLDAYEVENT:FALSE
SUMMARY:Aperol on the Terrace
DESCRIPTION:Join us at The Address Cork for an evening of relaxed networking\, great food\, and Aperol Spritz on our outdoor terrace.\n\nEnjoy a summer BBQ experience with our Head Chef at the grill\, refreshing drinks\, and the chance to connect with fellow Cork Chamber members in a laid-back setting overlooking the city.\n\nThis is a complimentary event as a thank you to our local business community.\n\nSpaces are limited\, early booking advised.
X-ALT-DESC;FMTTYPE=text/html:<p><span style="font-size:14px\;"><span style="font-family:arial\;">Join us at The Address Cork for an evening of relaxed networking\, great food\, and Aperol Spritz on our outdoor terrace.</span></span></p>\n\n<p><span style="font-size:14px\;"><span style="font-family:arial\;">Enjoy a summer BBQ experience with our Head Chef at the grill\, refreshing drinks\, and the chance to connect with fellow Cork Chamber members in a laid-back setting overlooking the city.</span></span></p>\n\n<p><span style="font-size:14px\;"><span style="font-family:arial\;">This is a complimentary event as a thank you to our local business community.</span></span></p>\n\n<p><span style="font-size:14px\;"><span style="font-family:arial\;">Spaces are limited\, early booking advised.</span></span></p>\n
LOCATION:The Address Cork\, Military Hill\, St. Luke's Cross\, Cork
UID:e.2489.38019
SEQUENCE:3
DTSTAMP:20260421T075218Z
URL:https://chamber.corkchamber.ie/events/details/aperol-on-the-terrace-38019
END:VEVENT

END:VCALENDAR
