BEGIN:VCALENDAR
VERSION:2.0
PRODID:-//ChamberMaster//Event Calendar 2.0//EN
METHOD:PUBLISH
X-PUBLISHED-TTL:P3D
REFRESH-INTERVAL:P3D
CALSCALE:GREGORIAN
BEGIN:VEVENT
DTSTART:20240817T180000Z
DTEND:20240817T201500Z
X-MICROSOFT-CDO-ALLDAYEVENT:FALSE
SUMMARY:Basic Instinct
DESCRIPTION:There is a crime scene with an ice pick stained with blood\, a silk scarf tied to a bedpost and a fading rock star brutally slain. But who is the killer? For San Francisco Detective Nick Curran\, what begins as a routine investigation becomes something much more when he meets Catherine Tramell. She is a novelist whose bizarre\, fictional crimes have a nasty habit of coming true. She quickly becomes the prime suspect but Curran cannot help but be drawn to the flirtatious and irresistible Tramell.\n\n\n\nAfter two science fiction movies\, Verhoeven changed tack with this steamy\, Hitchcockian neo noir thriller. One of the most financially successful films of 1992\, BASIC INSTINCT is a melodramatic crime thriller with everyone in top form   including Jan de Bont's stylish cinematography\, a rousing music score by Jerry Goldsmith\, and the central performances of Michael Douglas as Nick Curran\, and Sharon Stone as Catherine Tramell   who overnight became an international movie star.
X-ALT-DESC;FMTTYPE=text/html:<span style="font-size:14px\;"><span style="font-family:arial\;">There is a crime scene with an ice pick stained with blood\, a silk scarf tied to a bedpost and a fading rock star brutally slain. But who is the killer? For San Francisco Detective Nick Curran\, what begins as a routine investigation becomes something much more when he meets Catherine Tramell. She is a novelist whose bizarre\, fictional crimes have a nasty habit of coming true. She quickly becomes the prime suspect but Curran cannot help but be drawn to the flirtatious and irresistible Tramell.<br />\n<br />\nAfter two science fiction movies\, Verhoeven changed tack with this steamy\, Hitchcockian neo noir thriller. One of the most financially successful films of 1992\, BASIC INSTINCT is a melodramatic crime thriller with everyone in top form &ndash\; including Jan de Bont&rsquo\;s stylish cinematography\, a rousing music score by Jerry Goldsmith\, and the central performances of Michael Douglas as Nick Curran\, and Sharon Stone as Catherine Tramell &ndash\; who overnight became an international movie star.</span></span>
LOCATION:Triskel Arts Centre\, Tobin Street\, Cork City
UID:e.2489.34167
SEQUENCE:3
DTSTAMP:20260422T181011Z
URL:https://chamber.corkchamber.ie/events/details/basic-instinct-34167
END:VEVENT

END:VCALENDAR
