BEGIN:VCALENDAR
VERSION:2.0
PRODID:-//ChamberMaster//Event Calendar 2.0//EN
METHOD:PUBLISH
X-PUBLISHED-TTL:P3D
REFRESH-INTERVAL:P3D
CALSCALE:GREGORIAN
BEGIN:VEVENT
DTSTART:20200126T120000Z
DTEND:20200126T143000Z
X-MICROSOFT-CDO-ALLDAYEVENT:FALSE
SUMMARY:BOSCO'S GARDEN & SLEEPING BEAUTY - Presented by Paula Lambert’s Puppet Theatre
DESCRIPTION:Bosco is Bosco\, not a boy\, not a girl\, just a Bosco: a cheeky\, lovely\, funny\, slightly-cracked\, irrepressible\, eternal five-year-old who lives in a box and who loves nothing more than to just be Bosco and meet all the boys and girls. After starring on Irish TV for three decades\, you can see why Bosco remains a firm favourite for each new generation. Enjoy the enchanted story of Sleeping Beauty where an evil Fairy-Night filled with jealousy tries to harm Beauty. But\, luckily for Beauty\, she has some very good fairy friends. With its brilliant array of characters\, lots of fun and tons of excitement throughout\, this completely interactive live experience with the absolute magic of Puppet Theatre is wonderfully entertaining. 41st Anniversary Tour. Presented by Paula Lambert's Puppet Theatre.
X-ALT-DESC;FMTTYPE=text/html:<span style="font-size:14px\;"><span style="font-family:arial\;"><strong>Bosco</strong>&nbsp\;is Bosco\, not a boy\, not a girl\, just a Bosco: a cheeky\, lovely\, funny\, slightly-cracked\, irrepressible\, eternal five-year-old who lives in a box and who loves nothing more than to just be Bosco and meet all the boys and girls. After starring on Irish TV for three decades\, you can see why Bosco remains a firm favourite for each new generation. Enjoy the enchanted story of&nbsp\;<strong><em>Sleeping Beauty</em></strong>&nbsp\;where an evil Fairy-Night filled with jealousy tries to harm Beauty. But\, luckily for Beauty\, she has some very good fairy friends. With its brilliant array of characters\,&nbsp\;lots of fun and tons of excitement throughout\, this completely interactive live experience with the absolute magic of Puppet Theatre is wonderfully entertaining. 41st Anniversary Tour. Presented by Paula Lambert&rsquo\;s Puppet Theatre.</span></span>
LOCATION:The Everyman\, 5 MacCurtain Street\, Cork
UID:e.2489.21615
SEQUENCE:3
DTSTAMP:20260424T140112Z
URL:https://chamber.corkchamber.ie/events/details/bosco-s-garden-sleeping-beauty-presented-by-paula-lambert-s-puppet-theatre-21615
END:VEVENT

END:VCALENDAR
