BEGIN:VCALENDAR
VERSION:2.0
PRODID:-//ChamberMaster//Event Calendar 2.0//EN
METHOD:PUBLISH
X-PUBLISHED-TTL:P3D
REFRESH-INTERVAL:P3D
CALSCALE:GREGORIAN
BEGIN:VEVENT
DTSTART;VALUE=DATE:20240921
DTEND;VALUE=DATE:20240922
TRANSP:TRANSPARENT
X-MICROSOFT-CDO-ALLDAYEVENT:TRUE
SUMMARY:Challenge - Climb Carrauntoohil 2024
DESCRIPTION:Breakthrough Cancer Research invites you to support us by climbing Ireland's Highest Peak   Carrauntoohil in 2024!\n\n\n\nWe'll be climbing the iconic and inspirational Carrauntoohil on Saturday 21st September with trained guides and support in advance\, and on the day\, so you'll know what to bring\, how to get there\, what to wear\, and how to make the most of this special experience! It's on so many people's list of things to do\, and this might just be your opportunity!\n\n\n\nEach participant will pay  50 for their place on the climb\, with a commitment to raise at least  300 for Breakthrough Cancer Research. And the money raised will go straight to the funding of cutting edge projects to find new treatments and new tests for early cancer diagnosis.\n\n\n\nYou can register  for the event by clicking on the button below\, which will take you to the iDonate registration page. When you fill in your details to register\, it will also start your fundraising page\, so setting up your fundraising is quick and easy   all you need to do is share it!\n\n\n\nThis is a fantastic opportunity to climb Ireland's highest peak!\n\n\n\nIf you are a business or corporate  and want to find out more please contact  : Dick White   087-7518454 Dick@breakthroughcancerresearch.ie
X-ALT-DESC;FMTTYPE=text/html:<p><span style="font-size:14px\;"><span style="font-family:arial\;">Breakthrough Cancer Research invites you to support us by climbing Ireland&rsquo\;s Highest Peak &ndash\; Carrauntoohil in 2024!<br />\n<br />\nWe&rsquo\;ll be climbing the iconic and inspirational Carrauntoohil on Saturday 21st September with trained guides and support in advance\, and on the day\, so you&rsquo\;ll know what to bring\, how to get there\, what to wear\, and how to make the most of this special experience! It&rsquo\;s on so many people&rsquo\;s list of things to do\, and this might just be your opportunity!<br />\n<br />\nEach participant will pay &euro\;50 for their place on the climb\, with a commitment to raise at least &euro\;300 for Breakthrough Cancer Research. And the money raised will go straight to the funding of cutting edge projects to find new treatments and new tests for early cancer diagnosis.<br />\n<br />\nYou can register &nbsp\;for the event by clicking on the button below\, which will take you to the iDonate registration page. When you fill in your details to register\, it will also start your fundraising page\, so setting up your fundraising is quick and easy &ndash\; all you need to do is share it!<br />\n<br />\nThis is a fantastic opportunity to climb Ireland&rsquo\;s highest peak!<br />\n<br />\nIf you are a business or corporate&nbsp\; and want to find out more please contact &nbsp\;: Dick White &ndash\; 087-7518454 <a href="mailto:Dick@breakthroughcancerresearch.ie">Dick@breakthroughcancerresearch.ie</a> </span></span></p>\n
LOCATION:Location: Carrauntoohil\, Co Kerry Ireland's highest peak
UID:e.2489.34231
SEQUENCE:3
DTSTAMP:20260420T235610Z
URL:https://chamber.corkchamber.ie/events/details/challenge-climb-carrauntoohil-2024-34231
END:VEVENT

END:VCALENDAR
