BEGIN:VCALENDAR
VERSION:2.0
PRODID:-//ChamberMaster//Event Calendar 2.0//EN
METHOD:PUBLISH
X-PUBLISHED-TTL:P3D
REFRESH-INTERVAL:P3D
CALSCALE:GREGORIAN
BEGIN:VEVENT
DTSTART:20260424T070000Z
DTEND:20260424T080000Z
X-MICROSOFT-CDO-ALLDAYEVENT:FALSE
SUMMARY:Continental Riffs: Cork World Book Fest 2026
DESCRIPTION:Louis de Paor and Halyna Kruk\n\nExclusive Live Recording for RT  Radio\n\nThe brainchild of visual artist and RT  Radio producer Cl odhna N  Anluain\, CONTINENTAL RIFFS are conversations inspired by the culture of continental Europe between pairs of artists\, makers and producers whose paths have previously crossed. At the renowned international poetry translation residency on the Island of San Simon in southern Galicia\, Con Barqueira e Remador\, Irish poet Louis de Paor met the Ukrainian author\, translator and literary critic Halyna Kruk. During their process of reading and translating one another over a week on the island\, a conversation began\, which will continue tonight\, ranging far and wide across language\, poetry and life. This event will be recorded live for RT  Radio 1.
X-ALT-DESC;FMTTYPE=text/html:<p><span style="font-size:14px\;"><span style="font-family:arial\;">Louis de Paor and Halyna Kruk</span></span></p>\n\n<p><span style="font-size:14px\;"><span style="font-family:arial\;">Exclusive Live Recording for RT&Eacute\; Radio</span></span></p>\n\n<p><span style="font-size:14px\;"><span style="font-family:arial\;">The brainchild of visual artist and RT&Eacute\; Radio producer Cl&iacute\;odhna N&iacute\; Anluain\, CONTINENTAL RIFFS are conversations inspired by the culture of continental Europe between pairs of artists\, makers and producers whose paths have previously crossed. At the renowned international poetry translation residency on the Island of San Simon in southern Galicia\,&nbsp\;<em>Con Barqueira e Remador</em>\, Irish poet Louis de Paor met the Ukrainian author\, translator and literary critic Halyna Kruk. During their process of reading and translating one another over a week on the island\, a conversation began\, which will continue tonight\, ranging far and wide across language\, poetry and life. This event will be recorded live for RT&Eacute\; Radio 1.</span></span></p>\n
LOCATION:Triskel Arts Centre\, Tobin Street\, Cork City
UID:e.2489.37971
SEQUENCE:3
DTSTAMP:20260423T083550Z
URL:https://chamber.corkchamber.ie/events/details/continental-riffs-cork-world-book-fest-2026-37971
END:VEVENT

END:VCALENDAR
