BEGIN:VCALENDAR
VERSION:2.0
PRODID:-//ChamberMaster//Event Calendar 2.0//EN
METHOD:PUBLISH
X-PUBLISHED-TTL:P3D
REFRESH-INTERVAL:P3D
CALSCALE:GREGORIAN
BEGIN:VEVENT
DTSTART:20221220T201500Z
DTEND:20221222T223000Z
X-MICROSOFT-CDO-ALLDAYEVENT:FALSE
SUMMARY:Die Hard (16)
DESCRIPTION:132 minutes   United States 1988   Dir: John McTiernan\n\nStarring: Bruce Willis\, Alan Rickman and Bonnie Bedelia\n\n \n\nFacing Christmas 3\,000 miles from his estranged wife and two children\, New York policeman John McClane (Bruce Willis) flies to Los Angeles bearing presents and hoping to patch up his marriage. Stylish and cool Hans Gruber (Alan Rickman) is in Los Angeles as well for the holiday season\, but he's not there to give out presents. He's there to take: more than $600 million in negotiable bearer bonds from the multinational Nakatomi Corporation\, where McClane's wife Holly (Bonnie Bedelia) is an executive. When the takeover becomes hostile\, it's up to John McClane to take on the terrorists with all the grit and determination he can muster but not without a sense of humour.\n\n \n\n"Die Hard is still the definitive action thriller" Total Film
X-ALT-DESC;FMTTYPE=text/html:<p><span style="font-size:14px\;"><span style="font-family:arial\;">132 minutes &ndash\; United States 1988 &ndash\; Dir: John McTiernan<br />\nStarring: Bruce Willis\, Alan Rickman and Bonnie Bedelia<br />\n&nbsp\;<br />\nFacing Christmas 3\,000 miles from his estranged wife and two children\, New York policeman John McClane (Bruce Willis) flies to Los Angeles bearing presents and hoping to patch up his marriage. Stylish and cool Hans Gruber (Alan Rickman) is in Los Angeles as well for the holiday season\, but he&rsquo\;s not there to give out presents. He&rsquo\;s there to take: more than $600 million in negotiable bearer bonds from the multinational Nakatomi Corporation\, where McClane&rsquo\;s wife Holly (Bonnie Bedelia) is an executive. When the takeover becomes hostile\, it&rsquo\;s up to John McClane to take on the terrorists with all the grit and determination he can muster&ndash\;but not without a sense of humour.<br />\n&nbsp\;<br />\n<strong>&ldquo\;Die Hard is still the definitive action thriller&rdquo\;</strong> Total Film</span></span></p>\n
LOCATION:
UID:e.2489.31316
SEQUENCE:3
DTSTAMP:20260423T054055Z
URL:https://chamber.corkchamber.ie/events/details/die-hard-16-31316
END:VEVENT

END:VCALENDAR
