BEGIN:VCALENDAR
VERSION:2.0
PRODID:-//ChamberMaster//Event Calendar 2.0//EN
METHOD:PUBLISH
X-PUBLISHED-TTL:P3D
REFRESH-INTERVAL:P3D
CALSCALE:GREGORIAN
BEGIN:VEVENT
DTSTART:20260425T183000Z
DTEND:20260425T193000Z
X-MICROSOFT-CDO-ALLDAYEVENT:FALSE
SUMMARY:Dán na Caillí: Song of the Hagwitch: Cork World Book Fest 2026
DESCRIPTION:Laoighseach N  Choistealbha\, Dairena N  Chinn ide\, Eithne N  Ghallchobhair\, S le Denvir\, Margaret Lonergan with MC Liam Carson\n\nIs seanbhean   an Chailleach i miotaseola ocht na nGael\, bandia a shamhla tear leis an talamh\, leis an ngeimhreadh agus leis an saol eile\, an saol iarbh is. Is minic caille uirthi\,   ar leathsh il\, m l theach. Is bean feasa leis  . In Albain\, tugtar Beira uirthi agus luaitear   le Leithinis Bh ara i gCo. Chorca . Luaitear go minic i litr ocht na Gaeilge  : Mise  ire\, sine m  n  an Chailleach Bh ara (an Piarsach)\; luaitear sa bh aloideas  \, i bhfil ocht na mbard\, i saothar an Chadhnaigh agus Angela Bourke.\n\nIn Gaelic mythology\, the Cailleach is an old woman\, and a goddess associated with the land\, winter\, and with the otherworld of the dead. She is often depicted as a veiled hag\, with one eye and deathly pale skin. She appears throughout Irish literature\, from early Munster folklore to the age of the bards to modern poetry.\n\nD n na Caill  is a multimedia performance featuring newly commissioned poetry about the Caillleach by Laoighseach N  Choistealbha\, Dairena N  Chinn ide and Eithne N  Ghallchobhair. It will also feature songs from composer\, vocalist and instrumentalist S le Denvir\; and on-screen visuals from artist Margaret Lonergan.
X-ALT-DESC;FMTTYPE=text/html:<p><span style="font-size:14px\;"><span style="font-family:arial\;">Laoighseach N&iacute\; Choistealbha\, Dairena N&iacute\; Chinn&eacute\;ide\, Eithne N&iacute\; Ghallchobhair\, S&iacute\;le Denvir\, Margaret Lonergan with MC Liam Carson</span></span></p>\n\n<p><span style="font-size:14px\;"><span style="font-family:arial\;">Is seanbhean &iacute\; an Chailleach i miotaseola&iacute\;ocht na nGael\, bandia a shamhla&iacute\;tear leis an talamh\, leis an ngeimhreadh agus leis an saol eile\, an saol iarbh&aacute\;is. Is minic caille uirthi\, &iacute\; ar leathsh&uacute\;il\, m&iacute\;l&iacute\;theach. Is bean feasa leis &iacute\;. In Albain\, tugtar Beira uirthi agus luaitear &iacute\; le Leithinis Bh&eacute\;ara i gCo. Chorca&iacute\;. Luaitear go minic i litr&iacute\;ocht na Gaeilge &iacute\;: Mise &Eacute\;ire\, sine m&eacute\; n&aacute\; an Chailleach Bh&eacute\;ara (an Piarsach)\; luaitear sa bh&eacute\;aloideas &iacute\;\, i bhfil&iacute\;ocht na mbard\, i saothar an Chadhnaigh agus Angela Bourke.</span></span></p>\n\n<p><span style="font-size:14px\;"><span style="font-family:arial\;">In Gaelic mythology\, the Cailleach is an old woman\, and a goddess associated with the land\, winter\, and with the otherworld of the dead. She is often depicted as a veiled hag\, with one eye and deathly pale skin. She appears throughout Irish literature\, from early Munster folklore to the age of the bards to modern poetry.</span></span></p>\n\n<p><span style="font-size:14px\;"><span style="font-family:arial\;">D&aacute\;n na Caill&iacute\; is a multimedia performance featuring newly commissioned poetry about the Caillleach by Laoighseach N&iacute\; Choistealbha\, Dairena N&iacute\; Chinn&eacute\;ide and Eithne N&iacute\; Ghallchobhair. It will also feature songs from composer\, vocalist and instrumentalist S&iacute\;le Denvir\; and on-screen visuals from artist Margaret Lonergan.</span></span></p>\n
LOCATION:Triskel Arts Centre\, Tobin Street\, Cork City
UID:e.2489.37989
SEQUENCE:3
DTSTAMP:20260425T021602Z
URL:https://chamber.corkchamber.ie/events/details/d&#225;n-na-caill&#237;-song-of-the-hagwitch-cork-world-book-fest-2026-37989
END:VEVENT

END:VCALENDAR
