BEGIN:VCALENDAR
VERSION:2.0
PRODID:-//ChamberMaster//Event Calendar 2.0//EN
METHOD:PUBLISH
X-PUBLISHED-TTL:P3D
REFRESH-INTERVAL:P3D
CALSCALE:GREGORIAN
BEGIN:VEVENT
DTSTART:20201030T200000Z
DTEND:20201030T211500Z
X-MICROSOFT-CDO-ALLDAYEVENT:FALSE
SUMMARY:Feeling Good – Karen Underwood and John O’Brien– Presented by The Everyman
DESCRIPTION:Due to current restrictions\, this performance is available as a live audio broadcast only.\n\n\n\nThe Everyman presents Feeling Good with Karen Underwood and John O'Brien as part of Play It by Ear\, a programme of shows for The Everyman stage and available on live audio broadcast.\n\n\n\nDon't miss this heart-warming and joyful night of roof-raising jazz\, soul and blues by the Chicago native Karen Underwood\, accompanied on piano by John O'Brien. Karen has captivated audiences all over Ireland with her powerful\, passionate\, and moving interpretations of the songs of Billie Holliday\, Nina Simone\, Dinah Washington\, Whitney Houston and Amy Winehouse.\n\n\n\nShe returns to The Everyman with songs that make her and us feel good.
X-ALT-DESC;FMTTYPE=text/html:<p><strong>Due to current restrictions\, this performance is available as a live audio broadcast only.</strong><br />\n<br />\n<span style="font-size:14px"><span style="font-family:arial">The Everyman presents <em>Feeling Good with Karen Underwood and John O&rsquo\;Brien</em> as part of <em>Play It by Ear</em>\, a programme of shows for The Everyman stage and available on live audio broadcast.<br />\n<br />\nDon&rsquo\;t miss this heart-warming and joyful night of roof-raising jazz\, soul and blues by the Chicago native Karen Underwood\, accompanied on piano by John O&rsquo\;Brien. Karen has captivated audiences all over Ireland with her powerful\, passionate\, and moving interpretations of the songs of Billie Holliday\, Nina Simone\, Dinah Washington\, Whitney Houston and Amy Winehouse.<br />\n<br />\nShe returns to The Everyman with songs that make her and us feel good. </span></span></p>\n
LOCATION:The Everyman\, 15 MacCurtain Street\, Victorian Quarter\, Cork\, T23 E094
UID:e.2489.23051
SEQUENCE:3
DTSTAMP:20260419T181856Z
URL:https://chamber.corkchamber.ie/events/details/feeling-good-karen-underwood-and-john-o-brien-presented-by-the-everyman-23051
END:VEVENT

END:VCALENDAR
