BEGIN:VCALENDAR
VERSION:2.0
PRODID:-//ChamberMaster//Event Calendar 2.0//EN
METHOD:PUBLISH
X-PUBLISHED-TTL:P3D
REFRESH-INTERVAL:P3D
CALSCALE:GREGORIAN
BEGIN:VEVENT
DTSTART:20250217T090000Z
DTEND:20250219T173000Z
X-MICROSOFT-CDO-ALLDAYEVENT:FALSE
SUMMARY:Finance for Non-Financial Managers
DESCRIPTION:Finance for Non-Financial Managers is designed to equip new managers and team leads with essential financial fluency. This practical course demystifies financial concepts\, enabling participants to understand how finance impacts every aspect of an organisation. It covers crucial areas such as financial reporting\, interpreting financial figures\, and utilizing financial insights for strategic decision-making.\n\nBy the end of the programme\, participants will gain the confidence to communicate effectively about financial matters at all levels\, enhancing their ability to drive better outcomes for their teams and organisations. This course is ideal for those looking to transition smoothly into management roles.
X-ALT-DESC;FMTTYPE=text/html:<p><span style="font-size:14px\;"><span style="font-family:arial\;">Finance for Non-Financial Managers is designed to equip new managers and team leads with essential&nbsp\;financial fluency. This practical course demystifies financial concepts\, enabling participants to understand how finance&nbsp\;impacts&nbsp\;every aspect of an organisation. It covers crucial areas such as financial reporting\, interpreting financial figures\, and utilizing&nbsp\;financial insights&nbsp\;for strategic decision-making.</span></span></p>\n\n<p><span style="font-size:14px\;"><span style="font-family:arial\;">By the end of the programme\, participants will gain the&nbsp\;confidence&nbsp\;to communicate effectively about financial matters at all levels\, enhancing their ability to drive better&nbsp\;outcomes&nbsp\;for their teams and organisations. This course is ideal for those looking to transition smoothly into management roles.</span></span></p>\n
LOCATION:In person in our Executive Offices on Lapps Quay\, Cork
UID:e.2489.34690
SEQUENCE:3
DTSTAMP:20260421T091934Z
URL:https://chamber.corkchamber.ie/events/details/finance-for-non-financial-managers-34690
END:VEVENT

END:VCALENDAR
