BEGIN:VCALENDAR
VERSION:2.0
PRODID:-//ChamberMaster//Event Calendar 2.0//EN
METHOD:PUBLISH
X-PUBLISHED-TTL:P3D
REFRESH-INTERVAL:P3D
CALSCALE:GREGORIAN
BEGIN:VEVENT
DTSTART:20200128T120000Z
DTEND:20200128T140000Z
X-MICROSOFT-CDO-ALLDAYEVENT:FALSE
SUMMARY:Global Goals Business Conversations
DESCRIPTION:The 'Global Goals Business Conversations' is an engagement partnership with the Irish business community to explore how the private sector can contribute to Ireland achieving the Sustainable Development Goals targets\, and what supports and policies businesses require from government to help them do this.  \n\n\n\nThis consultation is part of an Irish Aid funded UN Sustainable Development Goals engagement project with communities\, private sector and policy-makers being delivered by Concern Worldwide. \n\n \n\nThe objective of these 'Chatham House Rules' round table conversations is to work with business representatives to build a picture of the current level of engagement with the SDGs and current actions towards sustainability within companies\, to explore the key barriers to achieving their sustainability plans and how these can be overcome\, particularly in terms of policy change and government supports\, and to discuss how we can evolve the SDGs from values to operational targets.
X-ALT-DESC;FMTTYPE=text/html:<strong><span style="font-weight:normal\;"><span style="font-family:helvetica\,sans-serif\;"><span style="font-size:10.0pt\;">The &lsquo\;Global Goals Business Conversations&rsquo\; is an engagement partnership with the Irish business community to explore how the private sector can contribute to Ireland achieving the Sustainable Development Goals targets\, and what supports and policies businesses require from government to help them do this.&nbsp\;&nbsp\;<br />\n<br />\nThis consultation is part of an Irish Aid funded UN Sustainable Development Goals engagement project with communities\, private sector&nbsp\;and policy-makers being delivered by Concern Worldwide. </span></span></span></strong><br />\n&nbsp\;<br />\n<strong><span style="font-weight:normal\;"><span style="font-family:helvetica\,sans-serif\;"><span style="font-size:10.0pt\;">The objective of these &lsquo\;Chatham House Rules&rsquo\; round table conversations is to work with business representatives to build a picture of the current level of engagement&nbsp\;with the SDGs and current actions towards sustainability within companies\, to explore the key barriers to achieving their sustainability plans and how these can be overcome\, particularly in terms of policy change and government supports\, and to discuss how we can evolve the SDGs from values to operational targets. </span></span></span></strong><br />\n&nbsp\;
LOCATION:Cork Chamber\, Summerhill North
UID:e.2489.21634
SEQUENCE:3
DTSTAMP:20260422T111651Z
URL:https://chamber.corkchamber.ie/events/details/global-goals-business-conversations-21634
END:VEVENT

END:VCALENDAR
