BEGIN:VCALENDAR
VERSION:2.0
PRODID:-//ChamberMaster//Event Calendar 2.0//EN
METHOD:PUBLISH
X-PUBLISHED-TTL:P3D
REFRESH-INTERVAL:P3D
CALSCALE:GREGORIAN
BEGIN:VEVENT
DTSTART:20221216T180000Z
DTEND:20221223T194000Z
X-MICROSOFT-CDO-ALLDAYEVENT:FALSE
SUMMARY:Home Alone (PG)
DESCRIPTION:When the McCalister family go on holiday\, they leave only one thing behind and that's Kevin\, their eight-year-old son. And as two bumbling burglars attempt to break into the house Kevin is left all alone to defend his home and outwit the burglars by waging war in the only way he knows how \n\nBreaking box office records when it was originally released and quickly established as a Christmas classic\, Home Alone continues to warm the hearts of audiences.\nPlease note: screenings will also commence on Sun 18 Dec 2pm\, Thurs 22 Dec 1.40pm and Fri 23 Dec 1.40pm
X-ALT-DESC;FMTTYPE=text/html:<p><span style="font-size:14px\;"><span style="font-family:arial\;">When the McCalister family go on holiday\, they leave only one thing behind and that&rsquo\;s Kevin\, their eight-year-old son. And as two bumbling burglars attempt to break into the house Kevin is left all alone to defend his home and outwit the burglars by waging war in the only way he knows how&hellip\;</span></span></p>\n\n<p><span style="font-size:14px\;"><span style="font-family:arial\;">Breaking box office records when it was originally released and quickly established as a Christmas classic\, Home Alone continues to warm the hearts of audiences<strong>.</strong></span></span></p>\n<span style="font-size:14px\;"><span style="font-family:arial\;"><strong>Please note: screenings will also commence on Sun 18 Dec</strong> 2pm\, <strong>Thurs 22 Dec</strong> 1.40pm and <strong>Fri 23 Dec</strong> 1.40pm</span></span>
LOCATION:Triskel Arts Centre Tobin Street Cork City
UID:e.2489.31325
SEQUENCE:3
DTSTAMP:20260423T203116Z
URL:https://chamber.corkchamber.ie/events/details/home-alone-pg-12-16-2022-31325
END:VEVENT

END:VCALENDAR
