BEGIN:VCALENDAR
VERSION:2.0
PRODID:-//ChamberMaster//Event Calendar 2.0//EN
METHOD:PUBLISH
X-PUBLISHED-TTL:P3D
REFRESH-INTERVAL:P3D
CALSCALE:GREGORIAN
BEGIN:VEVENT
DTSTART:20260512T073000Z
DTEND:20260512T120000Z
X-MICROSOFT-CDO-ALLDAYEVENT:FALSE
SUMMARY:IEA Life Sciences Exporters Forum
DESCRIPTION:Event Details:\n\nDate: Tuesday\, 12th May 2026\n\nTime: 08:30   13:00\n\nLocation: Fota Island Resort\, Fota Island\, Co. Cork\, T45 HX62\n\nTickets: Register here.\n\n\nSpaces limited to 100 delegates - register early to guarantee a space.\n\n\nExporting with Confidence: Regulation\, Resilience & Growth from the Southwest\n\nThe Irish Exporters Association (IEA) announces that it will host a Life Sciences Exporters Forum on Tuesday\, 12th May 2026 at Fota Island Resort\, Co. Cork. This is the first of two Forums which the IEA will run in conjunction with Aramex and Biocar in 2026. Running from 08:30 to 13:00\, the half-day event brings together exporters\, researchers\, industry leaders\, and innovators from across Ireland's life sciences sector for a morning of expert insight\, open discussion\, and peer connection. The second Form will take place in the Autumn.\n\n\nIreland's life sciences sector is one of the most significant contributors to the country's export economy\, and the companies behind that success face a demanding and fast-changing global environment. The forum is designed to give those companies the tools and connections they need to keep moving forward.\n\nSponsored by Aramex and Biocair\, the event will cover the current global trade climate for exporters\, the practicalities of scaling internationally\, and the compliance challenges companies encounter as they enter and expand in global markets.\n\nA highlight of the morning will be a keynote address from Minister of State Jerry Buttimer TD\, alongside a panel discussion on Cork's position as a centre for life sciences research\, collaboration\, and investment. The speaker line-up draws from across Irish life sciences manufacturing and research\, including representatives from\, Ana Bio\, Alexion\, Bausch & Lomb\, Maynooth University\, CABR\, HRB-TMRC\, and University College Cork.\n\nThe forum concludes with a networking lunch.\n\nSimon McKeever\, CEO\, IEA:\n\n"Ireland's life sciences exporters are operating at the sharp end of global trade. The regulatory demands are significant\, the logistics are complex\, and the stakes are high. This forum is an opportunity for companies across the south west to come together\, hear from experts who understand those pressures\, and take something practical back to their businesses. We are delighted to bring this event to Cork and to have the support of Aramex and Biocair in making it happen. The speaker line-up for Cork draws on some of the most respected names in Irish life sciences manufacturing and research. We look forward to welcoming the life sciences community to Cork and to building on this series in the years ahead."\n\nFrank Kilbride\, Director and Country Manager\, Aramex Ireland:\n\n"Ireland's life sciences sector is one of the country's most significant export drivers\, operating in highly regulated and complex global markets where compliance\, reliability\, and speed to market are critical. As a logistics partner\, Aramex plays a key role in enabling these businesses to move products efficiently and securely across international markets.\n\nWe are delighted to support the IEA Life Sciences Exporters Forum in Cork alongside Biocair\, providing a platform for collaboration\, knowledge sharing\, and helping exporters build resilience for continued global growth."\n\n\n\nAgenda\n\n08:30 - Registration & Networking Breakfast\n\n09:00 - Opening Remarks\n\n\n	Simon McKeever\, CEO\, Irish Exporters Association\n	Frank Kilbride\, Country Manager\, Aramex\n\n\n09:10 - Keynote Address\n\n\n	Jerry Buttimer TD\, Minister of State with responsibility for Rural Development & Community Development\, Department of Rural and Community Development\n\n\n09:30 - Industry Voices: Exporting at Scale from Cork\n\n\n	Alexion\, AnaBio Technologies\, PFGI\n\n\n10:30   Tea & Coffee\n\n10:50 - Deep Dive: HPRA Compliance in Practice\n\n11:20 - From Clinical to Commercial   How Ireland is positioned for Life Science collaboration and partnerships?\n\n\n	Dr. Shirley O'Dea\, Associate Professor\, Maynooth University & Board Member\, ISGCT\n	Dr. Tim Yeomans\, Centre Manager\, Centre for Applied Bioscience Research\n	Mark Tangney\, Professor\, University College Cork\n\n\n11:50   Closing Remarks\n\n12:00   Networking Lunch
X-ALT-DESC;FMTTYPE=text/html:<div>\n<p><span style="font-size:14px\;"><span style="font-family:arial\;"><strong>Event Details:</strong></span></span></p>\n\n<p><span style="font-size:14px\;"><span style="font-family:arial\;"><strong>Date:</strong>&nbsp\;Tuesday\, 12th May 2026</span></span></p>\n\n<p><span style="font-size:14px\;"><span style="font-family:arial\;"><strong>Time:</strong>&nbsp\;08:30 &ndash\; 13:00</span></span></p>\n\n<p><span style="font-size:14px\;"><span style="font-family:arial\;"><strong>Location:</strong>&nbsp\;Fota Island Resort\, Fota Island\, Co. Cork\, T45 HX62</span></span></p>\n\n<p><span style="font-size:14px\;"><span style="font-family:arial\;"><strong>Tickets:</strong>&nbsp\;<a class="x_x_OWAAutoLink" href="https://eur01.safelinks.protection.outlook.com/?url=https%3A%2F%2F8586115.hs-sites.com%2Fregistration-form-iea-life-sciences-export-forum%3Futm_campaign%3D39986953-Life%2520Sciences%2520Seminar%26utm_medium%3Demail%26_hsenc%3Dp2ANqtz-8-ejxBOPmmDh6q6D8XTYGwGM8fQXwXdYBXAjqBLj74HjYTPI1SDlKh5-EKXt2qGNsFrndKPNc3-v1iW6tRrHKrKsFnf7qOHD7S6KVEYxoH8Esg2bs%26_hsmi%3D409397987%26utm_content%3D409397987%26utm_source%3Dhs_email&amp\;data=05%7C02%7C%7Cfbf4de1019964fe9476908de88e576b8%7C12c771da68a74abf9db05ebf122f20e0%7C0%7C0%7C639098716328905051%7CUnknown%7CTWFpbGZsb3d8eyJFbXB0eU1hcGkiOnRydWUsIlYiOiIwLjAuMDAwMCIsIlAiOiJXaW4zMiIsIkFOIjoiTWFpbCIsIldUIjoyfQ%3D%3D%7C0%7C%7C%7C&amp\;sdata=LMFXAkplaWoZDlpy990105F%2FGP6pVkWl5EGTYi1RCCs%3D&amp\;reserved=0" id="OWA37fcd860-4909-c9e1-5f76-a99b65d23e0e" rel="noopener noreferrer" style="color: rgb(51\, 181\, 175)\; box-sizing: border-box\; background-color: transparent\; outline: 0px\;" target="_blank" title="Original URL: https://8586115.hs-sites.com/registration-form-iea-life-sciences-export-forum?utm_campaign=39986953-Life%20Sciences%20Seminar&amp\;utm_medium=email&amp\;_hsenc=p2ANqtz-8-ejxBOPmmDh6q6D8XTYGwGM8fQXwXdYBXAjqBLj74HjYTPI1SDlKh5-EKXt2qGNsFrndKPNc3-v1iW6tRrHKrKsFnf7qOHD7S6KVEYxoH8Esg2bs&amp\;_hsmi=409397987&amp\;utm_content=409397987&amp\;utm_source=hs_email. Click or tap if you trust this link.">Register here</a>.</span></span></p>\n\n<div>\n<p><span style="font-size:14px\;"><span style="font-family:arial\;">Spaces limited to 100 delegates - register early to guarantee a space.</span></span></p>\n</div>\n\n<p><span style="font-size:14px\;"><span style="font-family:arial\;"><strong>Exporting with Confidence: Regulation\, Resilience &amp\; Growth from the Southwest</strong></span></span></p>\n\n<p><span style="font-size:14px\;"><span style="font-family:arial\;">The Irish Exporters Association (IEA) announces that it will host a Life Sciences Exporters Forum on Tuesday\, 12th May 2026 at Fota Island Resort\, Co. Cork. This is the first of two Forums which the IEA will run in conjunction with Aramex and Biocar in 2026. Running from 08:30 to 13:00\, the half-day event brings together exporters\, researchers\, industry leaders\, and innovators from across Ireland&rsquo\;s life sciences sector for a morning of expert insight\, open discussion\, and peer connection. The second Form will take place in the Autumn.</span></span></p>\n</div>\n\n<p><span style="font-size:14px\;"><span style="font-family:arial\;">Ireland&rsquo\;s life sciences sector is one of the most significant contributors to the country&rsquo\;s export economy\, and the companies behind that success face a demanding and fast-changing global environment. The forum is designed to give those companies the tools and connections they need to keep moving forward.</span></span></p>\n\n<p><span style="font-size:14px\;"><span style="font-family:arial\;">Sponsored by Aramex and Biocair\, the event will cover the current global trade climate for exporters\, the practicalities of scaling internationally\, and the compliance challenges companies encounter as they enter and expand in global markets.</span></span></p>\n\n<p><span style="font-size:14px\;"><span style="font-family:arial\;">A highlight of the morning will be a keynote address from Minister of State Jerry Buttimer TD\, alongside a panel discussion on Cork&rsquo\;s position as a centre for life sciences research\, collaboration\, and investment. The speaker line-up draws from across Irish life sciences manufacturing and research\, including representatives from\, Ana Bio\, Alexion\, Bausch &amp\; Lomb\, Maynooth University\, CABR\, HRB-TMRC\, and University College Cork.</span></span></p>\n\n<p><span style="font-size:14px\;"><span style="font-family:arial\;">The forum concludes with a networking lunch.</span></span></p>\n\n<p><span style="font-size:14px\;"><span style="font-family:arial\;"><strong>Simon McKeever\, CEO\, IEA:</strong></span></span></p>\n\n<p><span style="font-size:14px\;"><span style="font-family:arial\;"><em>&ldquo\;Ireland&rsquo\;s life sciences exporters are operating at the sharp end of global trade. The regulatory demands are significant\, the logistics are complex\, and the stakes are high. This forum is an opportunity for companies across the south west to come together\, hear from experts who understand those pressures\, and take something practical back to their businesses. We are delighted to bring this event to Cork and to have the support of Aramex and Biocair in making it happen. The speaker line-up for Cork draws on some of the most respected names in Irish life sciences manufacturing and research. We look forward to welcoming the life sciences community to Cork and to building on this series in the years ahead.&rdquo\;</em></span></span></p>\n\n<p><span style="font-size:14px\;"><span style="font-family:arial\;"><strong>Frank Kilbride\, Director and Country Manager\, Aramex Ireland:</strong></span></span></p>\n\n<p><span style="font-size:14px\;"><span style="font-family:arial\;"><em>&ldquo\;Ireland&rsquo\;s life sciences sector is one of the country&rsquo\;s most significant export drivers\, operating in highly regulated and complex global markets where compliance\, reliability\, and speed to market are critical. As a logistics partner\, Aramex plays a key role in enabling these businesses to move products efficiently and securely across international markets.</em></span></span></p>\n\n<p><span style="font-size:14px\;"><span style="font-family:arial\;"><em>We are delighted to support the IEA Life Sciences Exporters Forum in Cork alongside Biocair\, providing a platform for collaboration\, knowledge sharing\, and helping exporters build resilience for continued global growth.&rdquo\;</em><br />\n<br />\n<strong>Agenda</strong></span></span></p>\n\n<p><span style="font-size:14px\;"><span style="font-family:arial\;">08:30&nbsp\;- Registration &amp\; Networking Breakfast</span></span></p>\n\n<p><span style="font-size:14px\;"><span style="font-family:arial\;">09:00&nbsp\;- Opening Remarks</span></span></p>\n\n<ul>\n	<li><span style="font-size:14px\;"><span style="font-family:arial\;">Simon McKeever\, CEO\, Irish Exporters Association</span></span></li>\n	<li><span style="font-size:14px\;"><span style="font-family:arial\;">Frank Kilbride\, Country Manager\, Aramex</span></span></li>\n</ul>\n\n<p><span style="font-size:14px\;"><span style="font-family:arial\;">09:10&nbsp\;- Keynote Address</span></span></p>\n\n<ul>\n	<li><span style="font-size:14px\;"><span style="font-family:arial\;">Jerry Buttimer TD\, Minister of State with responsibility for Rural Development &amp\; Community Development\, Department of Rural and Community Development</span></span></li>\n</ul>\n\n<p><span style="font-size:14px\;"><span style="font-family:arial\;">09:30&nbsp\;- Industry Voices: Exporting at Scale from Cork</span></span></p>\n\n<ul>\n	<li><span style="font-size:14px\;"><span style="font-family:arial\;">Alexion\, AnaBio Technologies\, PFGI</span></span></li>\n</ul>\n\n<p><span style="font-size:14px\;"><span style="font-family:arial\;">10:30&nbsp\;&ndash\; Tea &amp\; Coffee</span></span></p>\n\n<p><span style="font-size:14px\;"><span style="font-family:arial\;">10:50&nbsp\;- Deep Dive: HPRA Compliance in Practice</span></span></p>\n\n<p><span style="font-size:14px\;"><span style="font-family:arial\;">11:20&nbsp\;- From Clinical to Commercial &ndash\; How Ireland is positioned for Life Science collaboration and partnerships?</span></span></p>\n\n<ul>\n	<li><span style="font-size:14px\;"><span style="font-family:arial\;">Dr. Shirley O&rsquo\;Dea\, Associate Professor\, Maynooth University &amp\; Board Member\, ISGCT</span></span></li>\n	<li><span style="font-size:14px\;"><span style="font-family:arial\;">Dr. Tim Yeomans\, Centre Manager\, Centre for Applied Bioscience Research</span></span></li>\n	<li><span style="font-size:14px\;"><span style="font-family:arial\;">Mark Tangney\, Professor\, University College Cork</span></span></li>\n</ul>\n\n<p><span style="font-size:14px\;"><span style="font-family:arial\;">11:50&nbsp\;&ndash\; Closing Remarks</span></span></p>\n\n<p><span style="font-size:14px\;"><span style="font-family:arial\;">12:00&nbsp\;&ndash\; Networking Lunch</span></span></p>\n\n<p>&nbsp\;</p>\n\n<div>&nbsp\;</div>\n
LOCATION:Fota Island Resort\, Fota Island\, Co. Cork\, T45 HX62
UID:e.2489.38003
SEQUENCE:3
DTSTAMP:20260420T012853Z
URL:https://chamber.corkchamber.ie/events/details/iea-life-sciences-exporters-forum-38003
END:VEVENT

END:VCALENDAR
