BEGIN:VCALENDAR
VERSION:2.0
PRODID:-//ChamberMaster//Event Calendar 2.0//EN
METHOD:PUBLISH
X-PUBLISHED-TTL:P3D
REFRESH-INTERVAL:P3D
CALSCALE:GREGORIAN
BEGIN:VEVENT
DTSTART:20221107T230000Z
DTEND:20221205T230000Z
X-MICROSOFT-CDO-ALLDAYEVENT:FALSE
SUMMARY:IGNITE\, The Start-Up Incubation Programme at UCC - Open For Applications
DESCRIPTION:IGNITE\, a start-up incubation programme at University College Cork\, is looking for recent graduate entrepreneurs to join the next IGNITE programme\, commencing January 2023.\n\n\n\nThe programme is open to recent graduates in any discipline from any 3rd level institution in Ireland who have the passion and ambition to work full-time on a scalable start-up idea that has potential for economic\, environmental or social impact.\n\n\n\nIGNITE includes essential workshops and seminars\, entrepreneur guest speakers\, mentoring with experienced entrepreneurs and business owners\, funding and workspace offered on a flexible basis so you get the skills and knowledge\, advice and guidance you need when you need it.\n\n \n\nIf you're interested in finding out more about IGNITE\, register at: https://www.ucc.ie/en/ignite/registerinterest/\n\n \n\nApplications close 5 December 2022"
X-ALT-DESC;FMTTYPE=text/html:<p><span style="font-size:14px"><span style="font-family:arial">IGNITE\, a start-up incubation programme at University College Cork\, is looking for recent graduate entrepreneurs to join the next IGNITE programme\,&nbsp\;<strong>commencing January 2023.</strong><br />\n<br />\nThe programme is open to recent graduates in any discipline from any 3rd level institution in Ireland who have the passion and ambition to work full-time on a scalable start-up idea that has potential for economic\, environmental or social impact.</span><br />\n<br />\nIGNITE includes essential workshops and seminars\, entrepreneur guest speakers\, mentoring with experienced entrepreneurs and business owners\, funding and workspace offered on a flexible basis so you get the skills and knowledge\, advice and guidance you need when you need it.<br />\n&nbsp\;<br />\nIf you&rsquo\;re interested in finding out more about IGNITE\, register at: <a href="https://www.ucc.ie/en/ignite/registerinterest/">https://www.ucc.ie/en/ignite/registerinterest/</a><br />\n&nbsp\;<br />\nApplications close 5 December 2022&rdquo\;</span></p>\n
LOCATION:
UID:e.2489.31301
SEQUENCE:3
DTSTAMP:20260425T120835Z
URL:https://chamber.corkchamber.ie/events/details/ignite-the-start-up-incubation-programme-at-ucc-open-for-applications-11-07-2022-31301
END:VEVENT

END:VCALENDAR
