BEGIN:VCALENDAR
VERSION:2.0
PRODID:-//ChamberMaster//Event Calendar 2.0//EN
METHOD:PUBLISH
X-PUBLISHED-TTL:P3D
REFRESH-INTERVAL:P3D
CALSCALE:GREGORIAN
BEGIN:VEVENT
DTSTART:20240524T170000Z
DTEND:20240524T180000Z
X-MICROSOFT-CDO-ALLDAYEVENT:FALSE
SUMMARY:IN CONVERSATION with Ursula Burke and Dr Edwin Coomasaru
DESCRIPTION:Ursula Burke's practice incorporates porcelain sculpture\, soft sculpture\, embroidery sculpture and drawing. Her work explores precarity in the social realm\, power relations in the political arena and post-conflict histories relative to Northern Ireland.\n\nUrsula Burke will be in conversation with Dr Edwin Coomasaru\, a historian of modern and contemporary British\, Irish and Sri Lankan art\; his research considers the politics of 'gender\, sexuality\, and race. Coomasaru is an editor of the journal Visual Culture in Britain.
X-ALT-DESC;FMTTYPE=text/html:<p style="margin-left:0cm\; margin-right:0cm"><span style="font-family:arial\;"><strong>Ursula Burke&#39\;s&nbsp\;</strong>practice incorporates porcelain sculpture\, soft sculpture\, embroidery sculpture and drawing. Her work explores precarity in the social realm\, power relations in the political arena and post-conflict histories relative to Northern Ireland.</span></p>\n\n<p style="margin-left:0cm\; margin-right:0cm"><span style="font-family:arial\;"><strong>Ursula Burke</strong>&nbsp\;will be in conversation with&nbsp\;<strong>Dr Edwin Coomasaru</strong>\, a historian of modern and contemporary British\, Irish and Sri Lankan art\; his research considers the politics of &lsquo\;gender\, sexuality\, and race.&nbsp\;Coomasaru is an editor of the&nbsp\;journal&nbsp\;<em>Visual Culture</em>&nbsp\;in Britain.&nbsp\;</span></p>\n
LOCATION:Crawford Art Gallery
UID:e.2489.34034
SEQUENCE:3
DTSTAMP:20260422T082407Z
URL:https://chamber.corkchamber.ie/events/details/in-conversation-with-ursula-burke-and-dr-edwin-coomasaru-34034
END:VEVENT

END:VCALENDAR
