BEGIN:VCALENDAR
VERSION:2.0
PRODID:-//ChamberMaster//Event Calendar 2.0//EN
METHOD:PUBLISH
X-PUBLISHED-TTL:P3D
REFRESH-INTERVAL:P3D
CALSCALE:GREGORIAN
BEGIN:VEVENT
DTSTART:20210421T160000Z
DTEND:20210421T173000Z
X-MICROSOFT-CDO-ALLDAYEVENT:FALSE
SUMMARY:Ireland and the Future of Europe
DESCRIPTION:UCC School of Law is delighted to present the keynote lecture in the Brexit and the Future of Europe Project Speaker Series. This lecture will be delivered by Professor Brigid Laffan on the topic\, "Ireland and the Future of Europe"\, online on Wednesday 21 April 2021\, 5:00 - 6:30pm IST. The lecture will be followed by a Q&A.\n\n\n\nProfessor Brigid Laffan is a leading world expert on European integration and politics and has been central to academic and policy debates on the European Union\, including Brexit. She is the Director and Professor of the Robert Schuman Centre for Advanced Studies at the European University Institute in Florence and has received numerous awards for her contributions to EU political studies\, including the UACES Lifetime Achievement Award\, the THESEUS Award and the Ordre national du M rite by the President of the French Republic. \n\nWe are delighted to welcome Professor Laffan to UCC to deliver the keynote lecture of what has been a fascinating series exploring various issues on the theme of Brexit and the Future of Europe.\n\n\n\nThe event is free to attend but advance registration is essential via https://www.eventbrite.ie/e/ireland-and-the-future-of-europe-tickets-149115619833\n\nThe lecture will be recorded with all registered attendees receiving a copy of the the recording after the event.\n\n\n\nFor more information on the UCC Brexit and the Future of Europe Project\, visit HERE
X-ALT-DESC;FMTTYPE=text/html:<span style="font-size:14px\;"><span style="font-family:arial\;">UCC School of Law is delighted to present the keynote lecture in the Brexit and the Future of Europe Project Speaker Series. This lecture will be delivered by Professor Brigid Laffan on the topic\, &quot\;Ireland and the Future of Europe&quot\;\, online on Wednesday 21 April 2021\, 5:00 - 6:30pm IST. The lecture will be followed by a Q&amp\;A.<br />\n<br />\nProfessor Brigid Laffan is a leading world expert on European integration and politics and has been central to academic and policy debates on the European Union\, including Brexit. She is the Director and Professor of the Robert Schuman Centre for Advanced Studies at the European University Institute in Florence and has received numerous awards for her contributions to EU political studies\, including the UACES Lifetime Achievement Award\, the THESEUS Award and the Ordre national du M&eacute\;rite by the President of the French Republic.&nbsp\;<br />\nWe are delighted to welcome Professor Laffan to UCC to deliver the keynote lecture of what has been a fascinating series exploring various issues on the theme of Brexit and the Future of Europe.<br />\n<br />\nThe event is free to attend but <u><strong>advance registration is essential</strong></u> via&nbsp\;<a href="https://www.eventbrite.ie/e/ireland-and-the-future-of-europe-tickets-149115619833">https://www.eventbrite.ie/e/ireland-and-the-future-of-europe-tickets-149115619833</a><br />\nThe lecture will be recorded with all registered attendees receiving a copy of the the recording after the event.<br />\n<br />\nFor more information on the UCC Brexit and the Future of Europe Project\, visit <a href="https://www.ucc.ie/en/law/society/brexitmodule/">HERE</a></span></span>
LOCATION:Online Event
UID:e.2489.23290
SEQUENCE:3
DTSTAMP:20260420T210630Z
URL:https://chamber.corkchamber.ie/events/details/ireland-and-the-future-of-europe-23290
END:VEVENT

END:VCALENDAR
