BEGIN:VCALENDAR
VERSION:2.0
PRODID:-//ChamberMaster//Event Calendar 2.0//EN
METHOD:PUBLISH
X-PUBLISHED-TTL:P3D
REFRESH-INTERVAL:P3D
CALSCALE:GREGORIAN
BEGIN:VEVENT
DTSTART:20240314T180000Z
DTEND:20240314T190000Z
X-MICROSOFT-CDO-ALLDAYEVENT:FALSE
SUMMARY:Irish Tour
DESCRIPTION:For Seachtain na Gaeilge and St Patrick's Weekend\, we are delighted to announce that we are offering a unique tour of Crawford Art Gallery presented through Irish! Immerse yourself in the National Collection and exhibitions currently on show at Crawford Art Gallery as our knowledgeable guide take you on a captivating journey through the Gallery. This tour provides a wonderful opportunity to appreciate the artwork while engaging with the Irish language\, whether you're a fluent Irish speaker or simply interested in experiencing the language. This tour is open to all\, free to attend and requires no prior booking!
X-ALT-DESC;FMTTYPE=text/html:<p><span style="font-size:14px\;"><span style="font-family:arial\;">For Seachtain na Gaeilge and St Patrick&rsquo\;s Weekend\, we are delighted to announce that we are offering a unique tour of Crawford Art Gallery presented through Irish! Immerse yourself in the National Collection and exhibitions currently on show at Crawford Art Gallery as our knowledgeable guide take you on a captivating journey through the Gallery. This tour provides a wonderful opportunity to appreciate the artwork while engaging with the Irish language\, whether you&#39\;re a fluent Irish speaker or simply interested in experiencing the language. This tour is open to all\, free to attend and requires no prior booking!</span></span></p>\n
LOCATION:Crawford Art Gallery
UID:e.2489.33767
SEQUENCE:3
DTSTAMP:20260425T000932Z
URL:https://chamber.corkchamber.ie/events/details/irish-tour-33767
END:VEVENT

END:VCALENDAR
