BEGIN:VCALENDAR
VERSION:2.0
PRODID:-//ChamberMaster//Event Calendar 2.0//EN
METHOD:PUBLISH
X-PUBLISHED-TTL:P3D
REFRESH-INTERVAL:P3D
CALSCALE:GREGORIAN
BEGIN:VEVENT
DTSTART:20211023T190000Z
DTEND:20211023T200000Z
X-MICROSOFT-CDO-ALLDAYEVENT:FALSE
SUMMARY:Marc Copland - Guinness Cork Jazz Festival
DESCRIPTION:It doesn't seem right to think of him as an elder statesman but pianist and composer Marc Copland\, now 73 years old\, has been spinning out sounds like no other pianist since the mid-1970s.\n\n \n\nFor his exclusive solo concert at Triskel\, Marc will also perform selections from his new solo album John\, which is a homage to his long time friend and collaborator John Abercrombie. It is being extremely well-received by critics and already earned "CD of the Month" (Stereoplay\, Germany)\,  "Editor's Pick (Downbeat\, USA)\, "Choc" (Jazz Magazine\, France)\, 4\,5 Stars (All About Jazz\, USA)\, 5 Stars (Rondo\, Germany).
X-ALT-DESC;FMTTYPE=text/html:<p><span style="font-size:14px\;"><span style="font-family:arial\;">It doesn&rsquo\;t seem right to think of him as an elder statesman but pianist and composer&nbsp\;<strong>Marc Copland\,&nbsp\;</strong>now 73 years old\, has been spinning out sounds like no other pianist since the mid-1970s.<br />\n&nbsp\;<br />\nFor his exclusive solo concert at Triskel\, Marc will also perform selections from his new solo album&nbsp\;<em>John</em>\, which is a homage to his long time friend and collaborator John Abercrombie.&nbsp\;It is being extremely well-received by critics and already earned&nbsp\;&ldquo\;CD of the Month&rdquo\; (Stereoplay\, Germany)\,&nbsp\;&nbsp\;&ldquo\;Editor&rsquo\;s Pick (Downbeat\, USA)\,&nbsp\;&ldquo\;Choc&rdquo\; (Jazz Magazine\, France)\,&nbsp\;4\,5 Stars (All About Jazz\, USA)\, 5 Stars (Rondo\, Germany).</span></span></p>\n
LOCATION:Triskel Christchurch Triskel Arts Centre Tobin Street Cork
UID:e.2489.23874
SEQUENCE:3
DTSTAMP:20260423T150210Z
URL:https://chamber.corkchamber.ie/events/details/marc-copland-guinness-cork-jazz-festival-23874
END:VEVENT

END:VCALENDAR
