BEGIN:VCALENDAR
VERSION:2.0
PRODID:-//ChamberMaster//Event Calendar 2.0//EN
METHOD:PUBLISH
X-PUBLISHED-TTL:P3D
REFRESH-INTERVAL:P3D
CALSCALE:GREGORIAN
BEGIN:VEVENT
DTSTART;VALUE=DATE:20220716
DTEND;VALUE=DATE:20221107
TRANSP:TRANSPARENT
X-MICROSOFT-CDO-ALLDAYEVENT:TRUE
SUMMARY:Meat and Potatoes
DESCRIPTION:Eye-catching\, thought-provoking and mouth-watering in equal measure\, Meat and Potatoes will open across two floors of exhibition space at Crawford Art Gallery this summer.\n\nBringing together works by historic and contemporary artists who have used food as their muse in myriad ways\, the exhibition will be organised into three primary sections   BREAD\, MEAT and POTATOES   which will be presented as staples in the history of food-focused art\, as well as our personal diets throughout the ages. Visitors will have the opportunity to survey an abundance of food-related artworks produced over the last four centuries\, from still lifes\, to dining utensils and cookware\, to video works and installations that consider the politics and concerns that have shaped perspectives on food right up to our present moment. \n\nA feast for all the senses\, Meat and Potatoes will whet the appetite of anyone who has ever thought about food as a source of sustenance not only for the body\, but also for the eyes\, the mind\, the soul\, and society at large.
X-ALT-DESC;FMTTYPE=text/html:<p style="text-align: justify\;"><span style="font-size:14px\;"><span style="font-family:arial\;">Eye-catching\, thought-provoking and mouth-watering in equal measure\,&nbsp\;<em>Meat and Potatoes</em>&nbsp\;will open across two floors of exhibition space at Crawford Art Gallery this summer.</span></span></p>\n\n<p style="text-align: justify\;"><span style="font-size:14px\;"><span style="font-family:arial\;">Bringing together works by historic and contemporary artists who have used food as their muse in myriad ways\, the exhibition will be organised into three primary sections &ndash\; BREAD\, MEAT and POTATOES &ndash\; which will be presented as staples in the history of food-focused art\, as well as our personal diets throughout the ages. Visitors will have the opportunity to survey an abundance of food-related artworks produced over the last four centuries\, from still lifes\, to dining utensils and cookware\, to video works and installations that consider the politics and concerns that have shaped perspectives on food right up to our present moment.&nbsp\;</span></span></p>\n\n<p style="text-align: justify\;"><span style="font-size:14px\;"><span style="font-family:arial\;">A feast for all the senses\,&nbsp\;<em>Meat and Potatoes</em>&nbsp\;will whet the appetite of anyone who has ever thought about food as a source of sustenance not only for the body\, but also for the eyes\, the mind\, the soul\, and society at large.</span></span></p>\n
LOCATION:Crawford Art Gallery\, Emmet Place\, Cork\, T12 TNE6
UID:e.2489.27367
SEQUENCE:3
DTSTAMP:20260422T042107Z
URL:https://chamber.corkchamber.ie/events/details/meat-and-potatoes-27367
END:VEVENT

END:VCALENDAR
