BEGIN:VCALENDAR
VERSION:2.0
PRODID:-//ChamberMaster//Event Calendar 2.0//EN
METHOD:PUBLISH
X-PUBLISHED-TTL:P3D
REFRESH-INTERVAL:P3D
CALSCALE:GREGORIAN
BEGIN:VEVENT
DTSTART:20260702T090000Z
DTEND:20260702T100000Z
X-MICROSOFT-CDO-ALLDAYEVENT:FALSE
SUMMARY:Member Meet-Up
DESCRIPTION:As part of Cork Chamber's ongoing commitment to helping members get the greatest value from their membership\, we are delighted to bring you a new event\, Member Meet-Up\, to be held at our Cork Chamber office.\n\n\n\nThis event is designed to support members at any stage of their Chamber journey and provides an opportunity to catch up with fellow members\, meet the Cork Chamber team and gain a clearer understanding of the wide range of supports\, services and opportunities available through membership.\n\n\n\nOver coffee and conversation\, attendees will have the opportunity to introduce their business to the room\, learn more about the chamber and begin building valuable connections with fellow members.\n\n\n\nWhether you are new to the Chamber or simply looking to reconnect\, this event is a great way to engage\, network and make the most of your membership.\n\n\n\nBOOK NOW
X-ALT-DESC;FMTTYPE=text/html:<span style="color:#000000\;"><span style="font-size:14px\;"><span style="font-family:tahoma\;">As part of Cork Chamber&rsquo\;s ongoing commitment to helping members get the greatest value from their membership\, we are delighted to bring you a new event\, <strong>Member Meet-Up\, </strong>to be&nbsp\;held at our Cork Chamber office.<br />\n<br />\nThis event is designed to support members at any stage of their Chamber journey and&nbsp\;provides an opportunity to catch up with fellow members\, meet the Cork Chamber team and gain a clearer understanding of the wide range of supports\, services and opportunities available through membership.<br />\n<br />\nOver coffee and conversation\, attendees will have the opportunity to introduce their business to the room\, learn more about the chamber and begin building valuable connections with fellow members.<br />\n<br />\nWhether you are new to the Chamber or simply looking to reconnect\, this event is a great way to engage\, network and make the most of your membership.<br />\n<br />\n<a href="https://corkchamber.chambermaster.com/eventregistration/register/38011"><span style="font-size:16px\;"><strong>BOOK NOW</strong></span></a></span></span></span>
LOCATION:Cork Chamber\, Fitzgerald House
UID:e.2489.38011
SEQUENCE:3
DTSTAMP:20260424T151817Z
URL:https://chamber.corkchamber.ie/events/details/member-meet-up-38011
END:VEVENT

END:VCALENDAR
