BEGIN:VCALENDAR
VERSION:2.0
PRODID:-//ChamberMaster//Event Calendar 2.0//EN
METHOD:PUBLISH
X-PUBLISHED-TTL:P3D
REFRESH-INTERVAL:P3D
CALSCALE:GREGORIAN
BEGIN:VEVENT
DTSTART:20260425T130000Z
DTEND:20260425T140000Z
X-MICROSOFT-CDO-ALLDAYEVENT:FALSE
SUMMARY:Roddy Doyle in Conversation: Cork World Book Fest 2026
DESCRIPTION:Roddy Doyle with Paul McVeigh\n\nHe was last in town for a chat with Roy Keane at the Marquee and we felt it was time to have Ireland's favourite Dubliner\, Roddy Doyle\, down to Cork World Book Fest for a conversation with CWBF regular\, Paul McVeigh.\n\nRoddy Doyle's bookshelves and DVD racks are buckling under the weight of his prolific and energetic output that has helped shape how we see ourselves on this small\, complex island. Always astute\, always brim full of empathy\, and always writing to his own rhythm\, Roddy Doyle needs no introduction\, and this year the Cork World Book Fest is honoured to host one of Ireland's most cherished authors\, teachers\, mentors\, activists and observers. So sit back and enjoy what promises to be a fantastic afternoon of great joy and humanity.
X-ALT-DESC;FMTTYPE=text/html:<p><span style="font-size:14px\;"><span style="font-family:arial\;">Roddy Doyle with Paul McVeigh</span></span></p>\n\n<p><span style="font-size:14px\;"><span style="font-family:arial\;">He was last in town for a chat with Roy Keane at the Marquee and we felt it was time to have Ireland&rsquo\;s favourite Dubliner\, Roddy Doyle\, down to Cork World Book Fest for a conversation with CWBF regular\, Paul McVeigh.</span></span></p>\n\n<p><span style="font-size:14px\;"><span style="font-family:arial\;">Roddy Doyle&rsquo\;s bookshelves and DVD racks are buckling under the weight of his prolific and energetic output that has helped shape how we see ourselves on this small\, complex island. Always astute\, always brim full of empathy\, and always writing to his own rhythm\, Roddy Doyle needs no introduction\, and this year the Cork World Book Fest is honoured to host one of Ireland&rsquo\;s most cherished authors\, teachers\, mentors\, activists and observers. So sit back and enjoy what promises to be a fantastic afternoon of great joy and humanity.</span></span></p>\n
LOCATION:Triskel Arts Centre\, Tobin Street\, Cork City
UID:e.2489.37988
SEQUENCE:3
DTSTAMP:20260424T031845Z
URL:https://chamber.corkchamber.ie/events/details/roddy-doyle-in-conversation-cork-world-book-fest-2026-37988
END:VEVENT

END:VCALENDAR
