BEGIN:VCALENDAR
VERSION:2.0
PRODID:-//ChamberMaster//Event Calendar 2.0//EN
METHOD:PUBLISH
X-PUBLISHED-TTL:P3D
REFRESH-INTERVAL:P3D
CALSCALE:GREGORIAN
BEGIN:VEVENT
DTSTART:20240316T090000Z
DTEND:20240316T170000Z
X-MICROSOFT-CDO-ALLDAYEVENT:FALSE
SUMMARY:Sara's bake sale for Children's Health Foundation Temple Street
DESCRIPTION:My 5 year old daughter Sara has been through a number of major surgeries in her short life\, 3 in the last 10 weeks alone! She was born with a rare genetic condition called 'Muenke Syndrome' which meant that her skull had fused prematurely in the womb. This can cause many issues as the brain doesn't have the space to grow\, and it has also caused other issues for our wonderful girl such as hearing loss and vision loss.\n\nSara had her first visit to Temple Street Children's Hospital at just 6 weeks of age\, where the team have always taken great care of her.\n\nJust before 6 months of age\, Sara had her first major surgery. In a 6 hour surgery\, metal bars were inserted into her skull with the bars protruding to the outside of her head.\n\nThis was repeated again this November with another lengthy surgery to place the bars to the back of her head and more operations to complete the process.\n\nSara has had three blood transfusions to date and sports a scar from ear to ear in a zig zag shape.\n\nWe have had many trips to Temple Street over the last few years and the team have been outstanding\, supporting us in every way.\n\nOur bake sale has raised over  13\,000 on total for 2021 and 2022\, and we are setting an ambitious goal of  7\,000 this year for the total raised on the day and online to take it to a massive  20K.\n\nPlease support our fundraiser to help us to reach this goal! \n\n\n\nClick the link HERE to donate.
X-ALT-DESC;FMTTYPE=text/html:<div><span style="font-size:14px\;"><span style="font-family:arial\;">My 5 year old daughter Sara has been through a number of major surgeries in her short life\, 3 in the last 10 weeks alone! She was born with a rare genetic condition called &lsquo\;Muenke Syndrome&rsquo\; which meant that her skull had fused prematurely in the womb. This can cause many issues as the brain doesn&#39\;t have the space to grow\, and it has also caused other issues for our wonderful girl such as hearing loss and vision loss.</span></span></div>\n\n<p><span style="font-size:14px\;"><span style="font-family:arial\;">Sara had her first visit to Temple Street Children&rsquo\;s Hospital at just 6 weeks of age\, where the team have always taken great care of her.</span></span></p>\n\n<p><span style="font-size:14px\;"><span style="font-family:arial\;">Just before 6 months of age\, Sara had her first major surgery. In a 6 hour surgery\, metal bars were inserted into her skull with the bars protruding to the outside of her head.</span></span></p>\n\n<p><span style="font-size:14px\;"><span style="font-family:arial\;">This was repeated again this November with another lengthy surgery to place the bars to the back of her head and more operations to complete the process.</span></span></p>\n\n<p><span style="font-size:14px\;"><span style="font-family:arial\;">Sara has had three blood transfusions to date and sports a scar from ear to ear in a zig zag shape.</span></span></p>\n\n<p><span style="font-size:14px\;"><span style="font-family:arial\;">We have had many trips to Temple Street over the last few years and the team have been outstanding\, supporting us in every way.</span></span></p>\n\n<p><span style="font-size:14px\;"><span style="font-family:arial\;">Our bake sale has raised over &euro\;13\,000 on total for 2021 and 2022\, and we are setting an ambitious goal of &euro\;7\,000 this year for the total raised on the day and online to take it to a massive &euro\;20K.</span></span></p>\n\n<p><span style="font-size:14px\;"><span style="font-family:arial\;">Please support our fundraiser to help us to reach this goal!&nbsp\;</span></span><br />\n<br />\nClick the link <a href="https://www.facebook.com/donate/969741167901580/10159911925543581/">HERE </a>to donate.&nbsp\;</p>\n
LOCATION:Marina Market\, Cork
UID:e.2489.33810
SEQUENCE:3
DTSTAMP:20260422T032310Z
URL:https://chamber.corkchamber.ie/events/details/sara-s-bake-sale-for-children-s-health-foundation-temple-street-33810
END:VEVENT

END:VCALENDAR
