BEGIN:VCALENDAR
VERSION:2.0
PRODID:-//ChamberMaster//Event Calendar 2.0//EN
METHOD:PUBLISH
X-PUBLISHED-TTL:P3D
REFRESH-INTERVAL:P3D
CALSCALE:GREGORIAN
BEGIN:VEVENT
DTSTART:20211125T110000Z
DTEND:20211210T130000Z
X-MICROSOFT-CDO-ALLDAYEVENT:FALSE
SUMMARY:Sarah Jayne Booth: It's Still Not Pretty
DESCRIPTION:Sarah Jayne Booth is a Cork-based multimedia installation artist whose work centres on domesticity\, gender inequality\, bodily autonomy and social histories. She has an MA in Art & Process and maintains an actively engaged practice with a number of solo exhibitions\, bursaries and significant group exhibitions in major regional galleries. She initiated and heads up the collective r. a. g. e. (realising absolute gender equality).\n\n \n\nIt's still not pretty: 16 days of Action Against Gender Based Violence\n\nArtist Sarah Jayne Booth and members of the r. a. g. e. collective present It's still not pretty   a two-part visual art exhibition in association with Domestic Violence Network Cork. The exhibitions are part of '16 Days of Action Against Gender Based Violence'\, an annual international awareness campaign to combat violence against women.\n\n \n\nThe Domestic Violence Network Cork is an advocacy group comprising non-governmental\, community-led and statutory organisations that share information and expertise to work collaboratively for the betterment of their clients. Acknowledging that 2021 was a challenging year for their service users\, Deborah O'Flynn from OSSCork highlighted "the necessity of 'locking down' society in order to protect our population from potential Covid-19 infection created\, unfortunately\, a perfect environment for perpetrators to exert even greater control over their current and former partners". Despite the 'Still Here' Government initiative\, incidences of violence and ongoing coercive control increased in 2021. As a result\, most agencies have experienced a surge in the demand for their support services even as stay at home measures have eased.\n\n \n\nThe campaign is an opportunity to raise awareness of the necessity of zero tolerance to domestic violence. This year Cork Domestic Violence Network has invited artist Sarah Jayne Booth\, in collaboration with r. a. g. e. feminist collective\, to mark the campaign with an exhibition that reflects the experience of domestic violence victims and brings attention to the many barriers they face in securing their safety.\n\n \n\nThe exhibitions run from 25 November to 10 December 2021 with an installation by Sarah Jayne Booth and soundscape by Dr Honor Tuohy and a window display at Cork City Council Civic Offices available to view anytime from outside the main entrance.\n\n\n\nTRISKEL OPENING TIMES\n\n\n	\n		\n			\n			Thurs 25 Nov\n\n			11am-1pm\n			\n			\n			Fri 26 Nov\n\n			11am-1pm\n			\n			\n			Thurs 2 Dec\n\n			11am-1pm\n			\n			\n			Fri 3 Dec\n\n			11am-3pm\n			\n			\n			Sat 4 Dec\n\n			11am-3pm\n			\n			\n			Thurs 9 Dec\n\n			11am-1pm\n			\n			\n			Fri 10 Dec\n\n			11am-1pm
X-ALT-DESC;FMTTYPE=text/html:<p><span style="font-size:14px\;"><span style="font-family:arial\;">Sarah Jayne Booth is a Cork-based multimedia installation artist whose work centres on domesticity\, gender inequality\, bodily autonomy and social histories. She has an MA in Art &amp\; Process and maintains an actively engaged practice with a number of solo exhibitions\, bursaries and significant group exhibitions in major regional galleries. She initiated and heads up the collective r. a. g. e. (realising absolute gender equality).<br />\n&nbsp\;<br />\nIt&rsquo\;s still not pretty: 16 days of Action Against Gender Based Violence<br />\nArtist Sarah Jayne Booth and members of the r. a. g. e. collective present It&rsquo\;s still not pretty &ndash\; a two-part visual art exhibition in association with Domestic Violence Network Cork. The exhibitions are part of &rsquo\;16 Days of Action Against Gender Based Violence&rsquo\;\, an annual international awareness campaign to combat violence against women.<br />\n&nbsp\;<br />\nThe Domestic Violence Network Cork is an advocacy group comprising non-governmental\, community-led and statutory organisations that share information and expertise to work collaboratively for the betterment of their clients. Acknowledging that 2021 was a challenging year for their service users\, Deborah O&rsquo\;Flynn from OSSCork highlighted &ldquo\;the necessity of &lsquo\;locking down&rsquo\; society in order to protect our population from potential Covid-19 infection created\, unfortunately\, a perfect environment for perpetrators to exert even greater control over their current and former partners&rdquo\;. Despite the &lsquo\;Still Here&rsquo\; Government initiative\, incidences of violence and ongoing coercive control increased in 2021. As a result\, most agencies have experienced a surge in the demand for their support services even as stay at home measures have eased.<br />\n&nbsp\;<br />\nThe campaign is an opportunity to raise awareness of the necessity of zero tolerance to domestic violence. This year Cork Domestic Violence Network has invited artist Sarah Jayne Booth\, in collaboration with r. a. g. e. feminist collective\, to mark the campaign with an exhibition that reflects the experience of domestic violence victims and brings attention to the many barriers they face in securing their safety.<br />\n&nbsp\;<br />\nThe exhibitions run from 25 November to 10 December 2021 with an installation by Sarah Jayne Booth and soundscape by Dr Honor Tuohy and a window display at Cork City Council Civic Offices available to view anytime from outside the main entrance.<br />\n<br />\n<strong>TRISKEL OPENING TIMES</strong></span></span></p>\n\n<table border="0" cellpadding="0" cellspacing="0" style="border-collapse:collapse\; width:665px">\n	<tbody>\n		<tr>\n			<td style="height:37px">\n			<p><span style="font-size:14px\;"><span style="font-family:arial\;"><strong>Thurs 25 Nov</strong><br />\n			11am-1pm</span></span></p>\n			</td>\n			<td style="height:37px">\n			<p><span style="font-size:14px\;"><span style="font-family:arial\;"><strong>Fri 26 Nov</strong><br />\n			11am-1pm</span></span></p>\n			</td>\n			<td style="height:37px">\n			<p><span style="font-size:14px\;"><span style="font-family:arial\;"><strong>Thurs 2 Dec</strong><br />\n			11am-1pm</span></span></p>\n			</td>\n			<td style="height:37px">\n			<p><span style="font-size:14px\;"><span style="font-family:arial\;"><strong>Fri 3 Dec</strong><br />\n			11am-3pm</span></span></p>\n			</td>\n			<td style="height:37px">\n			<p><span style="font-size:14px\;"><span style="font-family:arial\;"><strong>Sat 4 Dec</strong><br />\n			11am-3pm</span></span></p>\n			</td>\n			<td style="height:37px">\n			<p><span style="font-size:14px\;"><span style="font-family:arial\;"><strong>Thurs 9 Dec</strong><br />\n			11am-1pm</span></span></p>\n			</td>\n			<td style="height:37px\; width:86px">\n			<p><span style="font-size:14px\;"><span style="font-family:arial\;"><strong>Fri 10 Dec</strong><br />\n			11am-1pm</span></span></p>\n			</td>\n		</tr>\n	</tbody>\n</table>\n
LOCATION:Triskel Christchurch Triskel Arts Centre Tobin Street Cork
UID:e.2489.23944
SEQUENCE:3
DTSTAMP:20260420T204151Z
URL:https://chamber.corkchamber.ie/events/details/sarah-jayne-booth-it-s-still-not-pretty-23944
END:VEVENT

END:VCALENDAR
