BEGIN:VCALENDAR
VERSION:2.0
PRODID:-//ChamberMaster//Event Calendar 2.0//EN
METHOD:PUBLISH
X-PUBLISHED-TTL:P3D
REFRESH-INTERVAL:P3D
CALSCALE:GREGORIAN
BEGIN:VEVENT
DTSTART:20260424T173000Z
DTEND:20260424T183000Z
X-MICROSOFT-CDO-ALLDAYEVENT:FALSE
SUMMARY:Spoken Stories: Cork World Book Fest 2026
DESCRIPTION:Cathy Sweeney and Danielle McLaughlin in conversation with Cl odhna N  Anluain\n\nExclusive Live Recording for RT  Radio\n\nRecorded live for RT  Radio 1\, SPOKEN STORIES is a themed-led trilogy of original\, commissioned stories from some of the most dynamic contemporary writers associated with Ireland and the short story as they navigate the imaginative breadth of what it is to be alive in the world in our time. Join RT  Radio Producer and author Cl odhna N  Anluain as she hosts newly commissioned SPOKEN STORIES authors Danielle McLaughlin and Cathy Sweeney for this Cork World Book Fest Exclusive.
X-ALT-DESC;FMTTYPE=text/html:<p><span style="font-size:14px\;"><span style="font-family:arial\;">Cathy Sweeney and Danielle McLaughlin in conversation with Cl&iacute\;odhna N&iacute\; Anluain</span></span></p>\n\n<p><span style="font-size:14px\;"><span style="font-family:arial\;">Exclusive Live Recording for RT&Eacute\; Radio</span></span></p>\n\n<p><span style="font-size:14px\;"><span style="font-family:arial\;">Recorded live for RT&Eacute\; Radio 1\, SPOKEN STORIES is a themed-led trilogy of original\, commissioned stories from some of the most dynamic contemporary writers associated with Ireland and the short story as they navigate the imaginative breadth of what it is to be alive in the world in our time. Join RT&Eacute\; Radio Producer and author Cl&iacute\;odhna N&iacute\; Anluain as she hosts newly commissioned SPOKEN STORIES authors Danielle McLaughlin and Cathy Sweeney for this Cork World Book Fest Exclusive.</span></span></p>\n
LOCATION:Triskel Arts Centre\, Tobin Street\, Cork City
UID:e.2489.37970
SEQUENCE:3
DTSTAMP:20260421T093113Z
URL:https://chamber.corkchamber.ie/events/details/spoken-stories-cork-world-book-fest-2026-37970
END:VEVENT

END:VCALENDAR
