BEGIN:VCALENDAR
VERSION:2.0
PRODID:-//ChamberMaster//Event Calendar 2.0//EN
METHOD:PUBLISH
X-PUBLISHED-TTL:P3D
REFRESH-INTERVAL:P3D
CALSCALE:GREGORIAN
BEGIN:VEVENT
DTSTART:20260425T093000Z
DTEND:20260425T110000Z
X-MICROSOFT-CDO-ALLDAYEVENT:FALSE
SUMMARY:Story Slam Cork Fighting Words: Cork World Book Fest 2026
DESCRIPTION:The teenagers of Write Club\, Cork's brilliant youth writing group hosted by Fighting Words at Graffiti Theatre\, are teaming up with the dynamic young event organisers of Waterford's Lit Festival to co-host Cork's very first Story Slam for young people.\n\nStory Slam is an exciting open mic event created especially for 13 18 year olds from across the island of Ireland. It offers a welcoming stage at Triskel Arts Centre where young writers and performers can share up to 5 minutes of their stories\, poems\, unfinished scribbles\, snippets from an epic saga or their songs with a supportive audience of fellow creatives.\n\nWhether you'd like to perform or would prefer to come and listen\, everyone is welcome. Admission is free\, but booking is essential   so sign up\, bring your words\, and be part of an unforgettable celebration of young voices.
X-ALT-DESC;FMTTYPE=text/html:<p><span style="font-size:14px\;"><span style="font-family:arial\;">The teenagers of&nbsp\;Write Club\, Cork&rsquo\;s brilliant youth writing group hosted by&nbsp\;Fighting Words at Graffiti Theatre\, are teaming up with the dynamic young event organisers of&nbsp\;Waterford&rsquo\;s Lit Festival&nbsp\;to co-host Cork&rsquo\;s very first Story Slam for young people.</span></span></p>\n\n<p><span style="font-size:14px\;"><span style="font-family:arial\;">Story Slam is an exciting open mic event created especially for 13&ndash\;18 year olds from across the island of Ireland. It offers a welcoming stage at Triskel Arts Centre where young writers and performers can share up to 5 minutes of their stories\, poems\, unfinished scribbles\, snippets from an epic saga or their songs with a supportive audience of fellow creatives.</span></span></p>\n\n<p><span style="font-size:14px\;"><span style="font-family:arial\;">Whether you&rsquo\;d like to perform or would prefer to come and listen\, everyone is welcome. Admission is free\, but booking is essential &mdash\; so sign up\, bring your words\, and be part of an unforgettable celebration of young voices.</span></span></p>\n
LOCATION:Triskel Arts Centre\, Tobin Street\, Cork City
UID:e.2489.37987
SEQUENCE:3
DTSTAMP:20260421T094121Z
URL:https://chamber.corkchamber.ie/events/details/story-slam-cork-fighting-words-cork-world-book-fest-2026-37987
END:VEVENT

END:VCALENDAR
