BEGIN:VCALENDAR
VERSION:2.0
PRODID:-//ChamberMaster//Event Calendar 2.0//EN
METHOD:PUBLISH
X-PUBLISHED-TTL:P3D
REFRESH-INTERVAL:P3D
CALSCALE:GREGORIAN
BEGIN:VEVENT
DTSTART;VALUE=DATE:20210808
DTEND;VALUE=DATE:20210809
TRANSP:TRANSPARENT
X-MICROSOFT-CDO-ALLDAYEVENT:TRUE
SUMMARY:That's Amore – The Story Of Dean Martin – Presented by The Everyman Sunday Songbook
DESCRIPTION:The Everyman Outdoors at Elizabeth Fort\n\nSUN 8 AUG\, 3PM & 7.30PM\n\nThe Everyman Sunday Songbook presents That's Amore   The Story of Dean Martin as part of The Everyman Outdoors at Elizabeth Fort programme.\n\nDean Martin was one of the most popular and enduring American entertainers of the mid-20th century. Actor\, singer\, half of the hit comedy duo alongside Jerry Lewis and one of the famous Rat Pack\, his relaxed\, warbling\, crooning voice earned him the nickname The King of Cool and dozens of hit singles\, including his signature songs "Memories Are Made of This"\, "That's Amore"\, "Everybody Loves Somebody"\, "You're Nobody till Somebody Loves You"\, "Sway"\, "Ain't That a Kick in the Head?"\, "Hey Mambo"\, "Volare" and more.\n\nThe Everyman Sunday Songbook team bring their unique magic to Elizabeth Fort with That's Amore: The Story of Dean Martin for 60+ minutes of non-stop musical hits\, story\, singalong and Deano fun!
X-ALT-DESC;FMTTYPE=text/html:<p><span style="font-size:14px\;"><span style="font-family:arial\;"><span style="background-color: rgb(247\, 247\, 247)\; color: rgb(0\, 0\, 0)\;">The Everyman Outdoors at Elizabeth Fort</span><br />\n<strong>SUN 8 AUG\, 3PM &amp\; 7.30PM</strong></span></span></p>\n\n<p><span style="font-size:14px\;"><span style="font-family:arial\;">The Everyman Sunday Songbook presents&nbsp\;<em>That&rsquo\;s Amore &ndash\; The Story of Dean Martin</em>&nbsp\;as part of The Everyman Outdoors at Elizabeth Fort programme.</span></span></p>\n\n<p><span style="font-size:14px\;"><span style="font-family:arial\;"><strong>Dean Martin</strong>&nbsp\;was one of the most popular and enduring American entertainers of the mid-20th century. Actor\, singer\, half of the hit comedy duo alongside Jerry Lewis and one of the famous Rat Pack\, his relaxed\, warbling\,&nbsp\;crooning&nbsp\;voice earned him the nickname&nbsp\;<em>The King of Cool</em>&nbsp\;and dozens of hit singles\, including his signature songs &ldquo\;Memories Are Made of This&rdquo\;\, &ldquo\;That&rsquo\;s Amore&rdquo\;\, &ldquo\;Everybody Loves Somebody&rdquo\;\, &ldquo\;You&rsquo\;re Nobody till Somebody Loves You&rdquo\;\, &ldquo\;Sway&rdquo\;\, &ldquo\;Ain&rsquo\;t That a Kick in the Head?&rdquo\;\, &ldquo\;Hey Mambo&rdquo\;\, &ldquo\;Volare&rdquo\; and more<em>.</em></span></span></p>\n\n<p><span style="font-size:14px\;"><span style="font-family:arial\;">The Everyman Sunday Songbook team bring their unique magic to Elizabeth Fort with&nbsp\;<em>That&rsquo\;s Amore: The Story of Dean Martin</em>&nbsp\;for 60+ minutes of non-stop musical hits\, story\, singalong and Deano fun!</span></span></p>\n
LOCATION:The Everyman at Elizabeth Fort\, Barrack St\, The Lough\, Cork\, T12 C8A0\, Ireland
UID:e.2489.23637
SEQUENCE:3
DTSTAMP:20260422T080314Z
URL:https://chamber.corkchamber.ie/events/details/that-s-amore-the-story-of-dean-martin-presented-by-the-everyman-sunday-songbook-23637
END:VEVENT

END:VCALENDAR
