BEGIN:VCALENDAR
VERSION:2.0
PRODID:-//ChamberMaster//Event Calendar 2.0//EN
METHOD:PUBLISH
X-PUBLISHED-TTL:P3D
REFRESH-INTERVAL:P3D
CALSCALE:GREGORIAN
BEGIN:VEVENT
DTSTART:20221127T160000Z
DTEND:20221127T180000Z
X-MICROSOFT-CDO-ALLDAYEVENT:FALSE
SUMMARY:The Banshees of Inisherin (16)
DESCRIPTION:114 mins - Ireland / UK / USA 2022 - Dir: Martin McDonagh\n\nStarring: Colin Farrell\, Brendan Gleeson and Kerry Condon\n\n \n\nSet on a remote island off the west coast of Ireland\, The Banshees of Inisherin follows lifelong friends Padraic and Colm\, who find themselves at an impasse when Colm unexpectedly puts an end to their friendship. A stunned Padraic\, aided by his sister Siobhan and troubled young islander Dominic\, endeavours to repair the relationship\, refusing to take no for an answer. But Padraic's repeated efforts only strengthen his former friend's resolve and when Colm delivers a desperate ultimatum\, events swiftly escalate\, with shocking consequences.\n\n \n\n"Another acerbic\, dangerous\, darkly amusing\, and heartbreakingly sad character drama from a modern master of shifting tones" Total Film
X-ALT-DESC;FMTTYPE=text/html:<p><span style="font-size:14px\;"><span style="font-family:arial\;">114 mins - Ireland / UK / USA 2022 - Dir: Martin McDonagh<br />\nStarring: Colin Farrell\, Brendan Gleeson and Kerry Condon<br />\n&nbsp\;<br />\nSet on a remote island off the west coast of Ireland\, The Banshees of Inisherin follows lifelong friends Padraic and Colm\, who find themselves at an impasse when Colm unexpectedly puts an end to their friendship. A stunned Padraic\, aided by his sister Siobhan and troubled young islander Dominic\, endeavours to repair the relationship\, refusing to take no for an answer. But Padraic&#39\;s repeated efforts only strengthen his former friend&rsquo\;s resolve and when Colm delivers a desperate ultimatum\, events swiftly escalate\, with shocking consequences.<br />\n&nbsp\;<br />\n<strong>&ldquo\;Another acerbic\, dangerous\, darkly amusing\, and heartbreakingly sad character drama from a modern master of shifting tones&rdquo\;</strong> Total Film</span></span></p>\n
LOCATION:
UID:e.2489.31291
SEQUENCE:3
DTSTAMP:20260424T093737Z
URL:https://chamber.corkchamber.ie/events/details/the-banshees-of-inisherin-16-31291
END:VEVENT

END:VCALENDAR
