BEGIN:VCALENDAR
VERSION:2.0
PRODID:-//ChamberMaster//Event Calendar 2.0//EN
METHOD:PUBLISH
X-PUBLISHED-TTL:P3D
REFRESH-INTERVAL:P3D
CALSCALE:GREGORIAN
BEGIN:VEVENT
DTSTART:20210909T120000Z
DTEND:20210909T130000Z
X-MICROSOFT-CDO-ALLDAYEVENT:FALSE
SUMMARY:The Last Crit: Laura Fitzgerald in conversation with John Strutton
DESCRIPTION:Join artists Laura Fitzgerald and John Strutton for a live talk that will take the form of a "crit" (critical review) of her exhibition I have made a place. \n\n\n\nLaura Fitzgerald has created a place in the gallery   a smallholding   using drawing\, sound\, a new video and a story that conjures a restless figure who is obsessed with cutting turf. \n\n\n\nLaura Fitzgerald: I have made a place is the third exhibition in Crawford Art Gallery's artist-directed programme\, which aims to platform the development of an artist's career\, support their current research interests\, and connect with audiences through a collaboration with Crawford Art Gallery\, its site\, and collections.\n\n\n\nFree but booking essential. Click here to book through Eventbrite.
X-ALT-DESC;FMTTYPE=text/html:<p style="text-align: justify\;"><span style="font-size:14px\;"><span style="font-family:arial\;">Join artists Laura Fitzgerald and John Strutton for a live talk that will take the form of a &ldquo\;crit&rdquo\; (critical review) of her exhibition<em>&nbsp\;I have made a place.&nbsp\;</em><br />\n<br />\nLaura Fitzgerald has created a place in the gallery &ndash\; a smallholding &ndash\; using drawing\, sound\, a new video and a story that conjures a restless figure who is obsessed with cutting turf.&nbsp\;<br />\n<br />\n<em><a href="https://crawfordartgallery.ie/laura-fitzgerald-i-have-made-a-place/" rel="noreferrer noopener" style="box-sizing: inherit\; background-color: transparent\; color: rgb(30\, 115\, 190)\; text-decoration-line: none\;" target="_blank">Laura Fitzgerald: I have made a place</a></em>&nbsp\;is the third exhibition in Crawford Art Gallery&rsquo\;s artist-directed programme\, which aims to platform the development of an artist&rsquo\;s career\, support their current research interests\, and connect with audiences through a collaboration with Crawford Art Gallery\, its site\, and collections.<br />\n<br />\nFree but booking essential.&nbsp\;<a href="https://www.eventbrite.ie/e/the-last-crit-laura-fitzgerald-in-conversation-with-john-strutton-tickets-168966004869" rel="noreferrer noopener" style="box-sizing: inherit\; background-color: transparent\; color: rgb(30\, 115\, 190)\; font-weight: 500\; text-decoration-line: none\;" target="_blank">Click here to book through Eventbrite</a>.</span></span></p>\n
LOCATION:Online. Hosted by Crawford Art Gallery\, Emmet Place\, T12 TNE6.
UID:e.2489.23762
SEQUENCE:3
DTSTAMP:20260421T185134Z
URL:https://chamber.corkchamber.ie/events/details/the-last-crit-laura-fitzgerald-in-conversation-with-john-strutton-23762
END:VEVENT

END:VCALENDAR
