BEGIN:VCALENDAR
VERSION:2.0
PRODID:-//ChamberMaster//Event Calendar 2.0//EN
METHOD:PUBLISH
X-PUBLISHED-TTL:P3D
REFRESH-INTERVAL:P3D
CALSCALE:GREGORIAN
BEGIN:VEVENT
DTSTART:20260430T170000Z
DTEND:20260430T225500Z
X-MICROSOFT-CDO-ALLDAYEVENT:FALSE
SUMMARY:The Wilton - Grand Re-Opening
DESCRIPTION:The G.O.A.T is back! You're officially invited to the Grand Opening of The Wilton Pub & Restaurant!\n\n\n\n\nWhen: April 30th 2026\, 6pm - late\n\nWhere: Cardinal Way\, Wilton\, Cork\n\n\n\nBe our guest as we officially open our doors for an epic evening of creamy pints\, great food\, and massive giveaways!\n\n\n\nHere is what we have lined up:\n\n- Complimentary finger food & drinks!\n\n- Bottomless Guinness Hour!\n\n- Live music all day!\n\n- Free hats for the first 100 visitors!\n\n\n\nMassive giveaways\, including a  500 fuel voucher and a  200 Saints & Sinners Voucher!
X-ALT-DESC;FMTTYPE=text/html:<p><span style="font-size:14px\;"><span style="font-family:arial\;">The G.O.A.T is back! You&#39\;re officially invited to the Grand Opening of The Wilton Pub &amp\; Restaurant!</span></span></p>\n\n<div>\n<div>\n<div>\n<p><span style="font-size:14px\;"><span style="font-family:arial\;">When: April 30th 2026\, 6pm - late<br />\nWhere: Cardinal Way\, Wilton\, Cork<br />\n<br />\nBe our guest as we officially open our doors for an epic evening of creamy pints\, great food\, and massive giveaways!<br />\n<br />\nHere is what we have lined up:<br />\n- Complimentary finger food &amp\; drinks!<br />\n- Bottomless Guinness Hour!<br />\n- Live music all day!<br />\n- Free hats for the first 100 visitors!<br />\n<br />\nMassive giveaways\, including a &euro\;500 fuel voucher and a &euro\;200 Saints &amp\; Sinners Voucher!&nbsp\;</span></span></p>\n</div>\n</div>\n</div>\n
LOCATION:The Wilton Bar\, Cardinal Way\, Wilton\, Cork
UID:e.2489.38025
SEQUENCE:3
DTSTAMP:20260424T031702Z
URL:https://chamber.corkchamber.ie/events/details/the-wilton-grand-re-opening-38025
END:VEVENT

END:VCALENDAR
