BEGIN:VCALENDAR
VERSION:2.0
PRODID:-//ChamberMaster//Event Calendar 2.0//EN
METHOD:PUBLISH
X-PUBLISHED-TTL:P3D
REFRESH-INTERVAL:P3D
CALSCALE:GREGORIAN
BEGIN:VEVENT
DTSTART:20260424T140000Z
DTEND:20260424T150000Z
X-MICROSOFT-CDO-ALLDAYEVENT:FALSE
SUMMARY:This Is Not a Cookbook: Cork World Book Fest 2026
DESCRIPTION:Roxana Manouchehri in conversation with Grace Neville\n\nThis Is Not a Cookbook uniquely blends memoir with food writing alongside evocative lithographic artwork. The vignettes in the book chronicle Manouchehri's childhood growing up in Tehran in the '80s following the Iranian Revolution\, the profound influence of the women who surrounded her\, and the legacy of memories handed down during wartime. Weaving moving personal anecdotes with the comfort of traditional recipes\, Manouchehri offers us a glimpse of a rich but fraught culture seen through the eyes of a young girl seeking to reconcile her roots through the shared intimacy of food.\n\n'Within minutes of opening Roxana's beautiful book\, I feel the urge to cook my first Shami. Roxana has a magical way of making her memory of her childhood home come to life. [ ] If ever a cookbook weaved its cuisine\, ingredients and sense of place together\, it's this one. Just beautiful.' (Chef Gary Hanlon\, The K Club.)\n\n'This is not a Cookbook is not a cookbook: it's a work of art that makes something brand new from recipes handed down through generations.' (Sarah Gilmartin)
X-ALT-DESC;FMTTYPE=text/html:<p><span style="font-size:14px\;"><span style="font-family:arial\;">Roxana Manouchehri in conversation with Grace Neville</span></span></p>\n\n<p><span style="font-size:14px\;"><span style="font-family:arial\;"><em>This Is Not a Cookbook</em>&nbsp\;uniquely blends memoir with food writing alongside evocative lithographic artwork. The vignettes in the book chronicle Manouchehri&rsquo\;s childhood growing up in Tehran in the &lsquo\;80s following the Iranian Revolution\, the profound influence of the women who surrounded her\, and the legacy of memories handed down during wartime. Weaving moving personal anecdotes with the comfort of traditional recipes\, Manouchehri offers us a glimpse of a rich but fraught culture seen through the eyes of a young girl seeking to reconcile her roots through the shared intimacy of food.</span></span></p>\n\n<p><span style="font-size:14px\;"><span style="font-family:arial\;">&lsquo\;Within minutes of opening Roxana&rsquo\;s beautiful book\, I feel the urge to cook my first Shami. Roxana has a magical way of making her memory of her childhood home come to life. [&hellip\;] If ever a cookbook weaved its cuisine\, ingredients and sense of place together\, it&rsquo\;s this one. Just beautiful.&rsquo\; (Chef Gary Hanlon\, The K Club.)</span></span></p>\n\n<p><span style="font-size:14px\;"><span style="font-family:arial\;">&lsquo\;<em>This is not a Cookbook</em>&nbsp\;is not a cookbook: it&rsquo\;s a work of art that makes something brand new from recipes handed down through generations.&rsquo\; (Sarah Gilmartin)</span></span></p>\n
LOCATION:Triskel Arts Centre\, Tobin Street\, Cork City
UID:e.2489.37969
SEQUENCE:3
DTSTAMP:20260421T091439Z
URL:https://chamber.corkchamber.ie/events/details/this-is-not-a-cookbook-cork-world-book-fest-2026-37969
END:VEVENT

END:VCALENDAR
