BEGIN:VCALENDAR
VERSION:2.0
PRODID:-//ChamberMaster//Event Calendar 2.0//EN
METHOD:PUBLISH
X-PUBLISHED-TTL:P3D
REFRESH-INTERVAL:P3D
CALSCALE:GREGORIAN
BEGIN:VEVENT
DTSTART:20220707T173000Z
DTEND:20221124T193000Z
X-MICROSOFT-CDO-ALLDAYEVENT:FALSE
SUMMARY:Tours on Thursday at Crawford Art Gallery
DESCRIPTION:Looking for something different to do in Cork City? Look no further! We are offering FREE tours which take place every Thursday evening!\n\nOur new Tours on Thursday take place weekly at 6:30pm. The perfect way to unwind after a day of work\, soak up culture before dinner or a night out\, or even for a date night with a difference!\n\nThursday tours are free of charge and no booking is necessary! Simply arrive to the gallery 6:30pm and meet your guide at the Sculpture Galleries! Tours last approximately 45 minutes.\n\nThursday Tours are an initiative in support of the Night-Time Economy and funded by the Department of Tourism\, Culture\, Arts\, Gaeltacht\, Sport and Media
X-ALT-DESC;FMTTYPE=text/html:<p><span style="font-size:14px"><span style="font-family:arial">Looking for something different to do in Cork City?&nbsp\;Look no further! We are offering FREE tours which take place every Thursday evening!<br />\nOur new Tours on Thursday take place weekly at 6:30pm. The perfect way to unwind after a day of work\, soak up culture before dinner or a night out\, or even for a date night with a difference!<br />\nThursday tours are free of charge and no booking is necessary! Simply arrive to the gallery 6:30pm and meet your guide at the Sculpture Galleries! Tours last approximately 45 minutes.<br />\nThursday Tours are an initiative in support of the Night-Time Economy and funded by the <a href="https://www.facebook.com/DepartmentofCultureIRL?__cft__%5B0%5D=AZW24EkcX5EgwSp3dLtASN5z7vhdRyidF-lgGs1dVmWLW3Q2yg1mcw5YM6Iw6BgNW18tirw-Bq5Rd84GqokFikJ06bn7hF-gUGyizBhLLi9YV02-YFKTcYx8IGbCv_mm6X9SJ6vdGEkFrwKQxI-gkQxs8tfQtN_n6bARWJfrHw9wRA&amp\;__tn__=-%5DK-R" style="color:blue\;">Department of Tourism\, Culture\, Arts\, Gaeltacht\, Sport and Media</a></span></span></p>\n
LOCATION:Crawford Art Gallery
UID:e.2489.27374
SEQUENCE:3
DTSTAMP:20260423T223157Z
URL:https://chamber.corkchamber.ie/events/details/tours-on-thursday-at-crawford-art-gallery-27374
END:VEVENT

END:VCALENDAR
