BEGIN:VCALENDAR
VERSION:2.0
PRODID:-//ChamberMaster//Event Calendar 2.0//EN
METHOD:PUBLISH
X-PUBLISHED-TTL:P3D
REFRESH-INTERVAL:P3D
CALSCALE:GREGORIAN
BEGIN:VEVENT
DTSTART:20220923T201500Z
DTEND:20220923T231500Z
X-MICROSOFT-CDO-ALLDAYEVENT:FALSE
SUMMARY:VIVAVHS! 18+ ONLY (Culture Night)
DESCRIPTION:180 min (including intermission)\n\n \n\nVIVA VHS! is a salute to the king of 1980's home entertainment: the video cassette. This is a mondo gonzo collection of coming attractions and clips from classic and cheesy movies of yesteryear\, presented in a tongue-in-cheek manner.
X-ALT-DESC;FMTTYPE=text/html:<p><span style="font-size:14px\;"><span style="font-family:arial\;">180 min (including intermission)<br />\n&nbsp\;<br />\nVIVA VHS! is a salute to the king of 1980&rsquo\;s home entertainment: the video cassette. This is a mondo gonzo collection of coming attractions and clips from classic and cheesy movies of yesteryear\, presented in a tongue-in-cheek manner.</span></span></p>\n
LOCATION:
UID:e.2489.27622
SEQUENCE:3
DTSTAMP:20260421T152043Z
URL:https://chamber.corkchamber.ie/events/details/vivavhs-18-only-culture-night-27622
END:VEVENT

END:VCALENDAR
