BEGIN:VCALENDAR
VERSION:2.0
PRODID:-//ChamberMaster//Event Calendar 2.0//EN
METHOD:PUBLISH
X-PUBLISHED-TTL:P3D
REFRESH-INTERVAL:P3D
CALSCALE:GREGORIAN
BEGIN:VEVENT
DTSTART:20191215T200000Z
DTEND:20191215T220000Z
X-MICROSOFT-CDO-ALLDAYEVENT:FALSE
SUMMARY:Well-loved Cork songwriter John Spillane celebrates 21 years in a row playing a Christmas gig at The Everyman
DESCRIPTION:John will be joined by his usual array of "mystery guests" and will perform a selection of old favourites like Princes Street and The Dance of the Cherry Trees as well as songs from his (brilliant) forthcoming album 100 Snow White Horses. This show is always a great night\, you will be moved to tears and laugh as well. Come along\, laugh\, cry\, enjoy!\n\nThere are many Cork people who consider John Spillane's show as the start of Christmas so don't be disappointed and book early.\n\n"John Spillane has been my favourite songwriter for the last ten years." Christy Moore.
X-ALT-DESC;FMTTYPE=text/html:<h5><span style="font-size:14px\;">John will be joined by his usual array of &ldquo\;mystery guests&rdquo\; and will perform a selection of old favourites like&nbsp\;<em>Princes Street</em>&nbsp\;and&nbsp\;<em>The Dance of the Cherry Trees</em>&nbsp\;as well as songs from his (brilliant) forthcoming album&nbsp\;<em>100 Snow White Horses</em>. This show is always a great night\, you will be moved to tears and laugh as well. Come along\, laugh\, cry\, enjoy!</span></h5>\n\n<p><span style="font-size:14px\;">There are many Cork people who consider&nbsp\;<strong>John Spillane&rsquo\;s</strong>&nbsp\;show as the start of Christmas so don&rsquo\;t be disappointed and book early.</span></p>\n\n<p><span style="font-size:14px\;"><em>&ldquo\;John Spillane has been my favourite songwriter for the last ten years.&rdquo\;&nbsp\;</em><strong>Christy Moore.</strong></span></p>\n
LOCATION:The Everyman\, 15 MacCurtain Street\, Cork
UID:e.2489.21603
SEQUENCE:3
DTSTAMP:20260422T103048Z
URL:https://chamber.corkchamber.ie/events/details/well-loved-cork-songwriter-john-spillane-celebrates-21-years-in-a-row-playing-a-christmas-gig-at-the-everyman-21603
END:VEVENT

END:VCALENDAR
