BEGIN:VCALENDAR
VERSION:2.0
PRODID:-//ChamberMaster//Event Calendar 2.0//EN
METHOD:PUBLISH
X-PUBLISHED-TTL:P3D
REFRESH-INTERVAL:P3D
CALSCALE:GREGORIAN
BEGIN:VEVENT
DTSTART;VALUE=DATE:20220503
DTEND;VALUE=DATE:20220718
TRANSP:TRANSPARENT
X-MICROSOFT-CDO-ALLDAYEVENT:TRUE
SUMMARY:Zurich Young Portrait Prize 2021
DESCRIPTION:Crawford Art Gallery is delighted to welcome the Zurich Young Portrait Prize for a third consecutive year in partnership with the National Gallery of Ireland.\n\nThis is an annual inclusive art competition which aims to foster and support creativity\, originality and self-expression in children and young people. The Zurich Young Portrait Prize accepts entries from young people\, up to the age of 18\, of all abilities\, from across the island of Ireland. 20 finalists in four categories (ages 6 and under\, ages 7 11\, ages 12 15 and ages 16 18)\, chosen by our panel of judges\, will be displayed at the National Gallery of Ireland from 13 November 2021 to 3 April 2022. The exhibition will then travel to Crawford Art Gallery\, where it will be displayed between 23 April and 17 July 2022. The overall winner will be awarded a personalised wooden box of high-quality art materials\, specific to their choice of material in their portrait\, and a cash prize of  500.\n\nThis year's judging panel is formed by Aideen Barry\, Joe Caslin\, and Tadhg Crowley.\n\nImage Credit: Delia Cowper-Gray\, Painting in a different world now (My Father The Artist. 2021   the artist
X-ALT-DESC;FMTTYPE=text/html:<p style="text-align: justify\;"><span style="font-size:14px\;"><span style="font-family:arial\;">Crawford Art Gallery is delighted to welcome the Zurich&nbsp\;Young&nbsp\;Portrait Prize for a third consecutive year in partnership with the National Gallery of Ireland.</span></span></p>\n\n<p style="text-align: justify\;"><span style="font-size:14px\;"><span style="font-family:arial\;">This is an annual inclusive art competition which aims to foster and support creativity\, originality and self-expression in children and young people. The Zurich&nbsp\;Young&nbsp\;Portrait Prize accepts entries from young people\, up to the age of 18\, of all abilities\, from across the island of Ireland. 20 finalists in four categories (ages 6 and under\, ages 7&ndash\;11\, ages 12&ndash\;15 and ages 16&ndash\;18)\, chosen by our panel of judges\, will be displayed at the National Gallery of Ireland from 13 November 2021 to 3 April 2022. The exhibition will then travel to Crawford Art Gallery\, where it will be displayed between 23 April and 17 July 2022. The overall winner will be awarded a personalised wooden box of high-quality art materials\, specific to their choice of material in their portrait\, and a cash prize of &euro\;500.</span></span></p>\n\n<p style="text-align: justify\;"><span style="font-size:14px\;"><span style="font-family:arial\;">This year&rsquo\;s judging panel is formed by Aideen Barry\, Joe Caslin\, and Tadhg Crowley.<br />\nImage Credit: Delia Cowper-Gray\, Painting in a different world now (My Father The Artist. 2021 &copy\; the artist</span></span></p>\n
LOCATION:Crawford Art Gallery
UID:e.2489.26551
SEQUENCE:3
DTSTAMP:20260426T013640Z
URL:https://chamber.corkchamber.ie/events/details/zurich-young-portrait-prize-2021-05-03-2022-26551
END:VEVENT

END:VCALENDAR
